BEGIN:VCALENDAR
VERSION:2.0
PRODID:-//Octubre Centre de Cultura Contemporània - ECPv5.1.6//NONSGML v1.0//EN
CALSCALE:GREGORIAN
METHOD:PUBLISH
X-WR-CALNAME:Octubre Centre de Cultura Contemporània
X-ORIGINAL-URL:https://octubre.cat
X-WR-CALDESC:Events for Octubre Centre de Cultura Contemporània
BEGIN:VTIMEZONE
TZID:Europe/Andorra
BEGIN:DAYLIGHT
TZOFFSETFROM:+0100
TZOFFSETTO:+0200
TZNAME:CEST
DTSTART:20140330T010000
END:DAYLIGHT
BEGIN:STANDARD
TZOFFSETFROM:+0200
TZOFFSETTO:+0100
TZNAME:CET
DTSTART:20141026T010000
END:STANDARD
END:VTIMEZONE
BEGIN:VEVENT
DTSTART;TZID=Europe/Andorra:20140612T190000
DTEND;TZID=Europe/Andorra:20140612T190000
DTSTAMP:20260421T092032
CREATED:20200729T170504Z
LAST-MODIFIED:20200730T041141Z
UID:9792-1402599600-1402599600@octubre.cat
SUMMARY:Presentació de la revista 'Mirmanda'
DESCRIPTION:Dijous 12 de juny a les 19.00h a la llibreria 3i4. Amb Òscar Jané\, Xavier Serra i Vicent Olmos  \n  \n  \n\n Presentació del número 8 de la revista Mirmanda\, amb Òscar Jané\, Xavier Serra i Vicent Olmos
URL:https://octubre.cat/activitat/presentacio-de-la-revista-mirmanda/
LOCATION:Llibreria 3i4
CATEGORIES:Literatura
ATTACH;FMTTYPE=image/jpeg:https://octubre.cat/www/wp-content/uploads/2020/07/activitat2087.jpg
END:VEVENT
END:VCALENDAR