BEGIN:VCALENDAR
VERSION:2.0
PRODID:-//Octubre Centre de Cultura Contemporània - ECPv5.1.6//NONSGML v1.0//EN
CALSCALE:GREGORIAN
METHOD:PUBLISH
X-WR-CALNAME:Octubre Centre de Cultura Contemporània
X-ORIGINAL-URL:https://octubre.cat
X-WR-CALDESC:Events for Octubre Centre de Cultura Contemporània
BEGIN:VTIMEZONE
TZID:Europe/Andorra
BEGIN:DAYLIGHT
TZOFFSETFROM:+0100
TZOFFSETTO:+0200
TZNAME:CEST
DTSTART:20150329T010000
END:DAYLIGHT
BEGIN:STANDARD
TZOFFSETFROM:+0200
TZOFFSETTO:+0100
TZNAME:CET
DTSTART:20151025T010000
END:STANDARD
END:VTIMEZONE
BEGIN:VEVENT
DTSTART;TZID=Europe/Andorra:20150414T190000
DTEND;TZID=Europe/Andorra:20150414T190000
DTSTAMP:20260421T221614
CREATED:20200729T171019Z
LAST-MODIFIED:20200730T041423Z
UID:10134-1429038000-1429038000@octubre.cat
SUMMARY:Presentació de la revista 'Mètode' núm. 84
DESCRIPTION:Dimarts 14 d’abril a les 19.00h. Monogràfic dedicat a la qüestió “Què és la ciència?”. Organitzat per l’Espai Ciència de l’Octubre CCC.  \n  \n  \n\n La presentació anirà a càrrec de:  —Chantal Ferrer (física\, Departament de Física Aplicada\, Universitat de València) —José Pío Beltran (bioquímic\, Institut de Biologia Molecular i Cel·lular de Plantes\, CSIC-UPV) —Antoni Furió (historiador\, Departament d’Història Medieval\, Universitat de València) —Rafael Castelló (sociòleg\, Departament de Sociologia de la Universitat de València)  Moderador: Martí Domínguez (escriptor i periodista\, director de Mètode)  El darrer número de la revista Mètode gira al voltant de la pregunta «Què és la ciència?» i en ell han participat destacats noms del món de la física\, la història i la filosofia. Així\, el físic Jean Bricmont i el filòsof Elliott Sober fan una aproximació a les discussions que han acompanyat el concepte del mètode científic; Patricia Fara i Pedro Ruíz-Castell ens aporten la perspectiva de la història de la ciència; Susanna Priest\, directora de Science Communication\, es pregunta pel mètode de les ciències socials i de les dificultats de mesurar el comportament humà; i\, finalment\, Jorge Wagensberg exposa la seua idea de les formes del coneixement interdisciplinari.  Completen el monogràfic dues entrevistes: una al físic i filòsof Mario Bunge i una altra a l’antropòleg i biòleg evolutiu Robin Dunbar. El número ha estat coordinat des de la pròpia revista per Martí Domínguez\, director de Mètode i professor de Periodisme de la Universitat de València\, i per Lucía Sapiña\, periodista de Mètode.  Aquest número de la revista publica també una sèrie d’articles sobre l’Any de la Llum. Organitzat per l’Espai Ciència de l’Octubre CCC.
URL:https://octubre.cat/activitat/presentacio-de-la-revista-metode-num-84/
CATEGORIES:Literatura
ATTACH;FMTTYPE=image/jpeg:https://octubre.cat/www/wp-content/uploads/2020/07/activitat2305.jpg
END:VEVENT
END:VCALENDAR