BEGIN:VCALENDAR
VERSION:2.0
PRODID:-//Octubre Centre de Cultura Contemporània - ECPv5.1.6//NONSGML v1.0//EN
CALSCALE:GREGORIAN
METHOD:PUBLISH
X-WR-CALNAME:Octubre Centre de Cultura Contemporània
X-ORIGINAL-URL:https://octubre.cat
X-WR-CALDESC:Events for Octubre Centre de Cultura Contemporània
BEGIN:VTIMEZONE
TZID:Europe/Andorra
BEGIN:DAYLIGHT
TZOFFSETFROM:+0100
TZOFFSETTO:+0200
TZNAME:CEST
DTSTART:20190331T010000
END:DAYLIGHT
BEGIN:STANDARD
TZOFFSETFROM:+0200
TZOFFSETTO:+0100
TZNAME:CET
DTSTART:20191027T010000
END:STANDARD
END:VTIMEZONE
BEGIN:VEVENT
DTSTART;TZID=Europe/Andorra:20191112T193000
DTEND;TZID=Europe/Andorra:20191112T193000
DTSTAMP:20260422T025648
CREATED:20200729T173543Z
LAST-MODIFIED:20200729T191244Z
UID:11547-1573587000-1573587000@octubre.cat
SUMMARY:Presentació de la revista "Gargots"
DESCRIPTION:Dimarts 12 de novembre a les 19.30h. Presentació del darrer número de Gargots\, la revista literària dels joves escriptors del País Valencià.	 \n  \n  \n\n 	 Presentació del número 15 de Gargots\, la revista literària dels joves escriptors del País Valencià.  A càrrec de Xavi Hernàndez i Maria Saiz. Amb la participació de Pau Sif\, Víctor Camarasa\, Carme Cardona\, Marta Meneu i l’actuació de Poetes Anònims.
URL:https://octubre.cat/activitat/presentacio-de-la-revista-gargots/
LOCATION:Llibreria Fan Set
CATEGORIES:Literatura
ATTACH;FMTTYPE=image/jpeg:https://octubre.cat/www/wp-content/uploads/2020/07/activitat3362.jpg
END:VEVENT
END:VCALENDAR