BEGIN:VCALENDAR
VERSION:2.0
PRODID:-//Octubre Centre de Cultura Contemporània - ECPv5.1.6//NONSGML v1.0//EN
CALSCALE:GREGORIAN
METHOD:PUBLISH
X-WR-CALNAME:Octubre Centre de Cultura Contemporània
X-ORIGINAL-URL:https://octubre.cat
X-WR-CALDESC:Events for Octubre Centre de Cultura Contemporània
BEGIN:VTIMEZONE
TZID:Europe/Andorra
BEGIN:DAYLIGHT
TZOFFSETFROM:+0100
TZOFFSETTO:+0200
TZNAME:CEST
DTSTART:20110327T010000
END:DAYLIGHT
BEGIN:STANDARD
TZOFFSETFROM:+0200
TZOFFSETTO:+0100
TZNAME:CET
DTSTART:20111030T010000
END:STANDARD
END:VTIMEZONE
BEGIN:VEVENT
DTSTART;TZID=Europe/Andorra:20110208T193000
DTEND;TZID=Europe/Andorra:20110208T193000
DTSTAMP:20260421T023831
CREATED:20200729T165436Z
LAST-MODIFIED:20200730T042740Z
UID:9178-1297193400-1297193400@octubre.cat
SUMMARY:Presentació de la revista Eines
DESCRIPTION:Dimarts 8 de febrer\, a les 19.30h: Presentació de la revista “Eines”. Taula rodona “Ofegats pel ‘Levante Feliz’: on és l’eixida?”  \n  \n  \n\nTaula rodona Ofegats pel “Levante Feliz”: on és l’eixida? Sents que et falta la respiració? Els grans esdeveniments\, les entranyables festes populars\, les sentides manifestacions de “valensiania” t’ofeguen? No entens aquesta societat incapaç d’enfrontar-se al caciquisme i la corrupció? En la revista Eines hem dedicat un número sencer a intentar entendre el perquè. Vine a debatre amb nosaltres sobre la qüestió a veure si entre tots li trobem trellat.  Amb la participació de: Nacho Moreno (crític cultural i membre d’Eines)\, Josep Izquierdo (professor i escriptor) i Áurea Ortiz Villeta (professora d’Història de l’Art i membre d’Eines).
URL:https://octubre.cat/activitat/presentacio-de-la-revista-eines/
LOCATION:No definit
CATEGORIES:Literatura
ATTACH;FMTTYPE=image/jpeg:https://octubre.cat/www/wp-content/uploads/2020/07/activitat1402.jpg
END:VEVENT
END:VCALENDAR