BEGIN:VCALENDAR
VERSION:2.0
PRODID:-//Octubre Centre de Cultura Contemporània - ECPv5.1.6//NONSGML v1.0//EN
CALSCALE:GREGORIAN
METHOD:PUBLISH
X-WR-CALNAME:Octubre Centre de Cultura Contemporània
X-ORIGINAL-URL:https://octubre.cat
X-WR-CALDESC:Events for Octubre Centre de Cultura Contemporània
BEGIN:VTIMEZONE
TZID:Europe/Andorra
BEGIN:DAYLIGHT
TZOFFSETFROM:+0100
TZOFFSETTO:+0200
TZNAME:CEST
DTSTART:20120325T010000
END:DAYLIGHT
BEGIN:STANDARD
TZOFFSETFROM:+0200
TZOFFSETTO:+0100
TZNAME:CET
DTSTART:20121028T010000
END:STANDARD
END:VTIMEZONE
BEGIN:VEVENT
DTSTART;TZID=Europe/Andorra:20120529T193000
DTEND;TZID=Europe/Andorra:20120529T193000
DTSTAMP:20260423T035900
CREATED:20200729T165743Z
LAST-MODIFIED:20200729T183844Z
UID:9367-1338319800-1338319800@octubre.cat
SUMMARY:Presentació de la revista 'Eines per a l'esquerra nacional'
DESCRIPTION:Dimarts 29 de maig a les 19.30h: presentació del número 17 de la revista “Eines per a l’esquerra nacional” dedicat a Joan Fuster  \n  \n  \n\nPresentació del núm. 17 de la revista Eines per a l’esquerra nacional de la Fundació Josep Irla\, dedicat a Joan Fuster i la seua obra. Hi intervindran Josep Vall (director de la Fundació)\, Arnau Albert (coordinador de la revista)\, Agustí Cerdà (president d’ERPV) i Antoni Furió (catedràtic d’Història Medieval de la Universitat de València)
URL:https://octubre.cat/activitat/presentacio-de-la-revista-eines-per-a-lesquerra-nacional/
LOCATION:No definit
CATEGORIES:Literatura
ATTACH;FMTTYPE=image/jpeg:https://octubre.cat/www/wp-content/uploads/2020/07/activitat1610.jpg
END:VEVENT
END:VCALENDAR