BEGIN:VCALENDAR
VERSION:2.0
PRODID:-//Octubre Centre de Cultura Contemporània - ECPv5.1.6//NONSGML v1.0//EN
CALSCALE:GREGORIAN
METHOD:PUBLISH
X-WR-CALNAME:Octubre Centre de Cultura Contemporània
X-ORIGINAL-URL:https://octubre.cat
X-WR-CALDESC:Events for Octubre Centre de Cultura Contemporània
BEGIN:VTIMEZONE
TZID:Europe/Andorra
BEGIN:DAYLIGHT
TZOFFSETFROM:+0100
TZOFFSETTO:+0200
TZNAME:CEST
DTSTART:20150329T010000
END:DAYLIGHT
BEGIN:STANDARD
TZOFFSETFROM:+0200
TZOFFSETTO:+0100
TZNAME:CET
DTSTART:20151025T010000
END:STANDARD
END:VTIMEZONE
BEGIN:VEVENT
DTSTART;TZID=Europe/Andorra:20151127T190000
DTEND;TZID=Europe/Andorra:20151127T190000
DTSTAMP:20260421T181359
CREATED:20200729T171450Z
LAST-MODIFIED:20200730T041616Z
UID:10422-1448650800-1448650800@octubre.cat
SUMMARY:Presentació de la revista 'Concreta 06'
DESCRIPTION:Divendres 27 de novembre a les 19.00h. Amb Oriol Fontdevila\, Nuria Enguita Mayo i Laura Vallés.  \n  \n  \n\n A càrrec d’Oriol Fontdevila (comissari\, investigador i escriptor) i les editores Nuria Enguita Mayo i Laura Vallés.  Programa  19.00h.- “Desbordant l’espai expositiu”\, presentació de Concreta 06\, per Nuria Enguita i Laura Vallés. Aquest número de la revista planteja una reflexió al voltant de l’espai expositiu com a lloc assentat i privilegiat per a que l’art s’esdevinga o s’active\, com també sobre la condició material de l’obra d’art\, del seu significat i de les relacions que estableix amb els diversos contextos i públics. Concreta 06 compta amb la col·laboració de  Lucy R. Lippard\, Mar Villaespesa\, Tamara Díaz Bringas\, Fernando López García\, La Ribot\, Peter Osborne\, Edit András\, Goshka Macuga\, Anna Boghiguian\, Grant Watson\, Roman Ondák\, Mireia C. Saladrigues\, Antonio Menchen\, Laura Vallés\, Jaime Cuenca i Imogen Stidworthy.  19:30h.- “El vestit mediador de l’emperador”\, conferència d’Oriol Fontdevila. La mediació apareix avui com un paradigma des del qual repensar els processos artístics i culturals en un sentit ampli. Comunament\, la mediació s’identifica amb un treball conciliador de tipus més bé disciplinari\, però si atenem a concepcions més contemporànies\, descobrim que la mediació també pot trobar-se en la possibilitat de l’agència o en la pròpia gènesi del procés creatiu. La comunitat de mediadors es troba en procés d’expansió. Però\, tot i això\, una pregunta es planteja: ¿en quina mesura una mediació pot suscitar processos d’emergència i transformació? L’exposició es prefigura avui com un cabdell de mediacions\, però\, ¿quines d’aquestes tindran la capacitat real de re-mediar les mateixes condicions establides en allò artístic i social\, com també en allò cultural i natural\, i aconseguiran alhora tenir-hi cap efecte?
URL:https://octubre.cat/activitat/presentacio-de-la-revista-concreta-06/
LOCATION:Sala d’actes
CATEGORIES:Literatura
ATTACH;FMTTYPE=image/jpeg:https://octubre.cat/www/wp-content/uploads/2020/07/activitat2456.jpg
END:VEVENT
END:VCALENDAR