BEGIN:VCALENDAR
VERSION:2.0
PRODID:-//Octubre Centre de Cultura Contemporània - ECPv5.1.6//NONSGML v1.0//EN
CALSCALE:GREGORIAN
METHOD:PUBLISH
X-WR-CALNAME:Octubre Centre de Cultura Contemporània
X-ORIGINAL-URL:https://octubre.cat
X-WR-CALDESC:Events for Octubre Centre de Cultura Contemporània
BEGIN:VTIMEZONE
TZID:Europe/Andorra
BEGIN:DAYLIGHT
TZOFFSETFROM:+0100
TZOFFSETTO:+0200
TZNAME:CEST
DTSTART:20140330T010000
END:DAYLIGHT
BEGIN:STANDARD
TZOFFSETFROM:+0200
TZOFFSETTO:+0100
TZNAME:CET
DTSTART:20141026T010000
END:STANDARD
END:VTIMEZONE
BEGIN:VEVENT
DTSTART;TZID=Europe/Andorra:20140531T120000
DTEND;TZID=Europe/Andorra:20140531T120000
DTSTAMP:20260421T080252
CREATED:20200729T170446Z
LAST-MODIFIED:20200730T041130Z
UID:9774-1401537600-1401537600@octubre.cat
SUMMARY:Presentació de la revista Concreta 03 i del llibre d’artista 'Timelines' de Lia Perjovschi
DESCRIPTION:Dissabte 31 de maig a les 12.00h. Amb Isidoro Valcárcel Medina\, Núria Enguita\, Laura Vallés\, Álvaro de los Ángeles\, Beatriz Herráez\, José Díaz Cuyás\, David Pérez i Rosa Santos.  \n  \n  \n\n Presentació de la revista Concreta 03 per Nuria Enguita i Laura Vallés.  Es presenta també el llibre d’artista Timelines de Lia Perjovschi.  Conversació amb Isidoro Valcárcel Medina. Participaran: Álvaro de los Ángeles\, Beatriz Herráez\, José Díaz Cuyás\, David Pérez i Rosa Santos.  Projecció de vídeos de Bonnie Camplin presentats per  Bárbara Rodríguez Muñoz.  Organitza  Editorial Concreta  Col·laboren Octubre Centre de Cultura Contemporània Fundació Banc Sabadell
URL:https://octubre.cat/activitat/presentacio-de-la-revista-concreta-03-i-del-llibre-dartista-timelines-de-lia-perjovschi/
LOCATION:No definit
CATEGORIES:Literatura
ATTACH;FMTTYPE=image/jpeg:https://octubre.cat/www/wp-content/uploads/2020/07/activitat2073.jpg
END:VEVENT
END:VCALENDAR