BEGIN:VCALENDAR
VERSION:2.0
PRODID:-//Octubre Centre de Cultura Contemporània - ECPv5.1.6//NONSGML v1.0//EN
CALSCALE:GREGORIAN
METHOD:PUBLISH
X-WR-CALNAME:Octubre Centre de Cultura Contemporània
X-ORIGINAL-URL:https://octubre.cat
X-WR-CALDESC:Events for Octubre Centre de Cultura Contemporània
BEGIN:VTIMEZONE
TZID:Europe/Andorra
BEGIN:DAYLIGHT
TZOFFSETFROM:+0100
TZOFFSETTO:+0200
TZNAME:CEST
DTSTART:20090329T010000
END:DAYLIGHT
BEGIN:STANDARD
TZOFFSETFROM:+0200
TZOFFSETTO:+0100
TZNAME:CET
DTSTART:20091025T010000
END:STANDARD
END:VTIMEZONE
BEGIN:VEVENT
DTSTART;TZID=Europe/Andorra:20091210T193000
DTEND;TZID=Europe/Andorra:20091210T193000
DTSTAMP:20260420T213631
CREATED:20200729T164635Z
LAST-MODIFIED:20200729T182717Z
UID:8675-1260473400-1260473400@octubre.cat
SUMMARY:Presentació de la plataforma 'Bosc Viu'
DESCRIPTION:Dijous 10 de desembre\, a les 19.30h: Acte de presentació pública de la plataforma “Bosc Viu”\, en defensa dels ecosistemes forestals valencians.   \n  \n  \n\nActe de presentació pública de la plataforma “Bosc Viu” (plataforma en defensa dels ecosistemes forestals valencians)  Xerrada-debat: “Els valors del bosc valencià i la seua preservació”.   Amb la intervenció de:  Robert Rubio (Ecologistes en Acció del País Valencià).  Teresa Soto (Intersindical Valenciana).  Juan Ponce (Associació Cultural 9 d’Octubre de Vilamarxant).   Modera: Carles Arnal (Acció Ecologista-Agró).
URL:https://octubre.cat/activitat/presentacio-de-la-plataforma-bosc-viu/
LOCATION:No definit
CATEGORIES:Literatura
ATTACH;FMTTYPE=image/jpeg:https://octubre.cat/www/wp-content/uploads/2020/07/activitat1018.jpg
END:VEVENT
END:VCALENDAR