BEGIN:VCALENDAR
VERSION:2.0
PRODID:-//Octubre Centre de Cultura Contemporània - ECPv5.1.6//NONSGML v1.0//EN
CALSCALE:GREGORIAN
METHOD:PUBLISH
X-WR-CALNAME:Octubre Centre de Cultura Contemporània
X-ORIGINAL-URL:https://octubre.cat
X-WR-CALDESC:Events for Octubre Centre de Cultura Contemporània
BEGIN:VTIMEZONE
TZID:Europe/Andorra
BEGIN:DAYLIGHT
TZOFFSETFROM:+0100
TZOFFSETTO:+0200
TZNAME:CEST
DTSTART:20160327T010000
END:DAYLIGHT
BEGIN:STANDARD
TZOFFSETFROM:+0200
TZOFFSETTO:+0100
TZNAME:CET
DTSTART:20161030T010000
END:STANDARD
END:VTIMEZONE
BEGIN:VEVENT
DTSTART;TZID=Europe/Andorra:20160609T190000
DTEND;TZID=Europe/Andorra:20160609T190000
DTSTAMP:20260421T212648
CREATED:20200729T171856Z
LAST-MODIFIED:20200729T185520Z
UID:10684-1465498800-1465498800@octubre.cat
SUMMARY:Presentació de 'La passejadora de gossos'\, de Francesc Bodí
DESCRIPTION:Dijous 9 de juny a les 19.00h. Premi de narrativa Ciutat de València 2015. Amb l’autor acompanyat per Fani Grande.  \n  \n  \n\n Premi de narrativa Ciutat de València 2015 (Bromera).  La presentació anirà a càrrec de Fani Grande.  A la València dels desnonaments i la corrupció\, de la crisi i les obres faraòniques\, hi viuen un director de banc\, una notària tafanera\, una mare sola a punt de perdre el pis\, una intèrpret bonica i espavilada\, una dona que pateix alzhèimer\, un carter jubilat\, un professor d’institut amb depressió\, i Manela\, una estudiant de Filosofia que passeja els gossos de tots ells. A través d’aquesta jove desenfadada i vital\, que impregna de filosofia el seu món i que captiva el lector des de la primera pàgina\, coneixerem tant la seua vida com la dels clients\, i com s’entrecreuen per brodar un somriure en el tapís irònic de l’actualitat.   La novel·la\, Premi Ciutat de València 2015\, és una història de supervivents que lluiten cada dia per no perdre les ganes de viure. Un relat fresc\, intel·ligent i ple de tendresa sobre la comunicació\, l’amor i el desamor\, l’amistat\, la valentia\, sobre com refer-se de les caigudes i mirar cap endavant\, que destaca també per la riquesa del llenguatge i pel seu estil àgil i directe.
URL:https://octubre.cat/activitat/presentacio-de-la-passejadora-de-gossos-de-francesc-bodi/
LOCATION:Llibreria 3i4
CATEGORIES:Literatura
ATTACH;FMTTYPE=image/jpeg:https://octubre.cat/www/wp-content/uploads/2020/07/activitat2594.jpg
END:VEVENT
END:VCALENDAR