BEGIN:VCALENDAR
VERSION:2.0
PRODID:-//Octubre Centre de Cultura Contemporània - ECPv5.1.6//NONSGML v1.0//EN
CALSCALE:GREGORIAN
METHOD:PUBLISH
X-WR-CALNAME:Octubre Centre de Cultura Contemporània
X-ORIGINAL-URL:https://octubre.cat
X-WR-CALDESC:Events for Octubre Centre de Cultura Contemporània
BEGIN:VTIMEZONE
TZID:Europe/Andorra
BEGIN:DAYLIGHT
TZOFFSETFROM:+0100
TZOFFSETTO:+0200
TZNAME:CEST
DTSTART:20120325T010000
END:DAYLIGHT
BEGIN:STANDARD
TZOFFSETFROM:+0200
TZOFFSETTO:+0100
TZNAME:CET
DTSTART:20121028T010000
END:STANDARD
END:VTIMEZONE
BEGIN:VEVENT
DTSTART;TZID=Europe/Andorra:20120510T190000
DTEND;TZID=Europe/Andorra:20120510T190000
DTSTAMP:20260424T030624
CREATED:20200729T165728Z
LAST-MODIFIED:20200729T183831Z
UID:9352-1336676400-1336676400@octubre.cat
SUMMARY:Presentació de 'La gatera'\, de Muriel Villanueva
DESCRIPTION:Dijous 10 de maig a les 19.00h: presentació del llibre “La gatera”\, de Muriel Villanueva i Perarnau\, a càrrec de Xavier Sarrià i Gerard de Josep.  \n  \n  \n\nPresentació del llibre “La gatera”\, de Muriel Villanueva i Perarnau. A càrrec de Xavier Sarrià i de l’autora. Lectura de textos a càrrec de Gerard de Josep.  La gatera (Amsterdam Llibres) és una novel·la escrita des del llindar: un forat obert en una paret que connecta dos mons sense intersecció aparent. Una història commovedora que barreja realitat i ficció\, vida i mort\, masculinitat i feminitat.  L’autora Muriel Villanueva i Perarnau (València\, 1976) és llicenciada en Teoria de la Literatura i Literatura Comparada i diplomada en Educació Musical. Actualment exerceix com a professora a l’Escola d’Escriptura de l’Ateneu Barcelonès\, on també coordina les relacions internacionals. És autora de les novel·les Mares\, i si sortim de l’armari?\, Jo toco i tu balles i Baracoa. La gatera va obtenir el Premi Just M. Casero 2011.  La gatera La Raquel hereta dos pisos simètrics. L’un dona al carrer\, i l’altre\, a un pati interior des d’on s’escola un gat taronja. Obrir una gatera al mur que separa els dos habitatges esdevindrà un camí intrigant cap a la identitat de la noia.   N’han parlat:  “Una història captivadora i molt sexy\, un encreuament genètic entre la frescor i el desvergonyiment de Holden Caulfield i les atmosferes pertorbadores i a la vegada minuciosament detallistes de Murakami” (Mercedes Abad)  “Una veu desenfadada que tritura somnis\, imaginacions i realitats\, i en fa un concentrat literari” (Isidre Grau)  “Un prodigi de seducció i precisió narrativa. L’únic que sap greu és acabar-ne la lectura” (Sebastià Alzamora)
URL:https://octubre.cat/activitat/presentacio-de-la-gatera-de-muriel-villanueva/
LOCATION:No definit
CATEGORIES:Literatura
ATTACH;FMTTYPE=image/jpeg:https://octubre.cat/www/wp-content/uploads/2020/07/activitat1595.jpg
END:VEVENT
END:VCALENDAR