BEGIN:VCALENDAR
VERSION:2.0
PRODID:-//Octubre Centre de Cultura Contemporània - ECPv5.1.6//NONSGML v1.0//EN
CALSCALE:GREGORIAN
METHOD:PUBLISH
X-WR-CALNAME:Octubre Centre de Cultura Contemporània
X-ORIGINAL-URL:https://octubre.cat
X-WR-CALDESC:Events for Octubre Centre de Cultura Contemporània
BEGIN:VTIMEZONE
TZID:Europe/Andorra
BEGIN:DAYLIGHT
TZOFFSETFROM:+0100
TZOFFSETTO:+0200
TZNAME:CEST
DTSTART:20090329T010000
END:DAYLIGHT
BEGIN:STANDARD
TZOFFSETFROM:+0200
TZOFFSETTO:+0100
TZNAME:CET
DTSTART:20091025T010000
END:STANDARD
END:VTIMEZONE
BEGIN:VEVENT
DTSTART;TZID=Europe/Andorra:20090714T190000
DTEND;TZID=Europe/Andorra:20090714T190000
DTSTAMP:20260420T225046
CREATED:20200729T182535Z
LAST-MODIFIED:20200729T182535Z
UID:12886-1247598000-1247598000@octubre.cat
SUMMARY:Presentació de la CUP a València
DESCRIPTION:Dimarts 14 de juliol\, a les 19.00h: Presentació de la Candidatura d’Unitat Popular (CUP) a València.   \n  \n  \n\nPRESENTACIÓ DE LA CUP A VALÈNCIA  La Candidatura d’Unitat Popular (CUP) presentarà a València les conclusions i acords de les seues darreres assemblees nacionals.  Presentat per Antoni Terrones\, membre del CoUP València.   Amb la presència de Pau Juvillà i Joan Jubany\, membres del secretariat nacional de la CUP\, es faran públiques\, amb una xerrada i posterior debat\, les conclusions de tot el procés assembleari que durant els últims mesos ha situat la CUP en el centre d’atenció de totes les persones que aspirem a un futur de llibertat\, independència i canvi social als Països Catalans.  L’acte organitzat pel col·lectiu de suport a la CUP de València\, CoUP\, comptarà\, a més\, amb la participació d’altres col·lectius embrionaris de la CUP al País Valencià.
URL:https://octubre.cat/activitat/presentacio-de-la-cup-a-valencia/
LOCATION:No definit
CATEGORIES:Literatura
ATTACH;FMTTYPE=image/jpeg:https://octubre.cat/www/wp-content/uploads/2020/07/activitat918.jpg
END:VEVENT
END:VCALENDAR