BEGIN:VCALENDAR
VERSION:2.0
PRODID:-//Octubre Centre de Cultura Contemporània - ECPv5.1.6//NONSGML v1.0//EN
CALSCALE:GREGORIAN
METHOD:PUBLISH
X-WR-CALNAME:Octubre Centre de Cultura Contemporània
X-ORIGINAL-URL:https://octubre.cat
X-WR-CALDESC:Events for Octubre Centre de Cultura Contemporània
BEGIN:VTIMEZONE
TZID:Europe/Andorra
BEGIN:DAYLIGHT
TZOFFSETFROM:+0100
TZOFFSETTO:+0200
TZNAME:CEST
DTSTART:20170326T010000
END:DAYLIGHT
BEGIN:STANDARD
TZOFFSETFROM:+0200
TZOFFSETTO:+0100
TZNAME:CET
DTSTART:20171029T010000
END:STANDARD
END:VTIMEZONE
BEGIN:VEVENT
DTSTART;TZID=Europe/Andorra:20171010T190000
DTEND;TZID=Europe/Andorra:20171010T190000
DTSTAMP:20260420T155012
CREATED:20200729T172716Z
LAST-MODIFIED:20200729T185915Z
UID:11217-1507662000-1507662000@octubre.cat
SUMMARY:Presentació de guies didàctiques d'ACPV
DESCRIPTION:Dimarts 10 d’octubre a les 19.00h. Amb Anna Gascón i Isidre Crerspo. Organitzat per la Secció d’Ensenyament d’ACPV.  \n  \n  \n\n Presentació de les guies didàctiques i les auques de  –Joan Fuster –Prudenci Bertrana –Aurora Bertrana  Hi intervindran: —Anna Gascón\, professora i autora de les guies didàctiques d’Aurora i Prudenci Bertrana —Isidre Crespo\, professor i autor de la guia didàctica de Joan Fuster (elaborada amb la col·laboració de Vicent Josep Girbés i Tomàs Llopis).  Elaborades per la Secció d’Ensenyament d’ACPV. Activitat inclosa en la celebració de l’Any Bertrana.
URL:https://octubre.cat/activitat/presentacio-de-guies-didactiques-dacpv/
LOCATION:Terrat
CATEGORIES:Literatura
ATTACH;FMTTYPE=image/jpeg:https://octubre.cat/www/wp-content/uploads/2020/07/activitat2886.jpg
END:VEVENT
END:VCALENDAR