BEGIN:VCALENDAR
VERSION:2.0
PRODID:-//Octubre Centre de Cultura Contemporània - ECPv5.1.6//NONSGML v1.0//EN
CALSCALE:GREGORIAN
METHOD:PUBLISH
X-WR-CALNAME:Octubre Centre de Cultura Contemporània
X-ORIGINAL-URL:https://octubre.cat
X-WR-CALDESC:Events for Octubre Centre de Cultura Contemporània
BEGIN:VTIMEZONE
TZID:Europe/Andorra
BEGIN:DAYLIGHT
TZOFFSETFROM:+0100
TZOFFSETTO:+0200
TZNAME:CEST
DTSTART:20160327T010000
END:DAYLIGHT
BEGIN:STANDARD
TZOFFSETFROM:+0200
TZOFFSETTO:+0100
TZNAME:CET
DTSTART:20161030T010000
END:STANDARD
END:VTIMEZONE
BEGIN:VEVENT
DTSTART;TZID=Europe/Andorra:20160218T190000
DTEND;TZID=Europe/Andorra:20160218T190000
DTSTAMP:20260421T165703
CREATED:20200729T171606Z
LAST-MODIFIED:20200729T185405Z
UID:10503-1455822000-1455822000@octubre.cat
SUMMARY:Presentació de 'Fràgil sol de tardor'\, de Rafa Gomar
DESCRIPTION:Dijous 18 de febrer a les 19.00h. amb l’autor i Isidre Crespo.  \n  \n  \n\n (El cep i la nansa)  Amb l’autor i Isidre Crespo.  En forma de dietari\, Gomar en ofereix un retaule de visions\, estats d’ànims\, desitjos\, accions o comentaris amb mà ferma “d’artesà de la paraula”. Un treball escrupolós sobre la melodia\, el ritme i el “tempo” del llenguatge\, on les experiències viscudes d’aquest dietari t’arribaran més enllà de la simple credibilitat.
URL:https://octubre.cat/activitat/presentacio-de-fragil-sol-de-tardor-de-rafa-gomar/
LOCATION:Llibreria 3i4
CATEGORIES:Literatura
ATTACH;FMTTYPE=image/jpeg:https://octubre.cat/www/wp-content/uploads/2020/07/activitat2498.jpg
END:VEVENT
END:VCALENDAR