BEGIN:VCALENDAR
VERSION:2.0
PRODID:-//Octubre Centre de Cultura Contemporània - ECPv5.1.6//NONSGML v1.0//EN
CALSCALE:GREGORIAN
METHOD:PUBLISH
X-WR-CALNAME:Octubre Centre de Cultura Contemporània
X-ORIGINAL-URL:https://octubre.cat
X-WR-CALDESC:Events for Octubre Centre de Cultura Contemporània
BEGIN:VTIMEZONE
TZID:Europe/Andorra
BEGIN:DAYLIGHT
TZOFFSETFROM:+0100
TZOFFSETTO:+0200
TZNAME:CEST
DTSTART:20160327T010000
END:DAYLIGHT
BEGIN:STANDARD
TZOFFSETFROM:+0200
TZOFFSETTO:+0100
TZNAME:CET
DTSTART:20161030T010000
END:STANDARD
END:VTIMEZONE
BEGIN:VEVENT
DTSTART;TZID=Europe/Andorra:20161013T190000
DTEND;TZID=Europe/Andorra:20161013T190000
DTSTAMP:20260421T072417
CREATED:20200729T172039Z
LAST-MODIFIED:20200729T185607Z
UID:10796-1476385200-1476385200@octubre.cat
SUMMARY:Presentació de 'Després del diluvi'\, d'Antônio Moura
DESCRIPTION:Dijous 13 d’octubre a les 19.00h. Amb l’autor i Joan Navarro (traductor)  \n  \n  \n\n (Edicions 96)  Amb l’assistència de l’autor. Introdueix l’acte Joan Navarro\, traductor.
URL:https://octubre.cat/activitat/presentacio-de-despres-del-diluvi-dantonio-moura/
LOCATION:Llibreria 3i4
CATEGORIES:Literatura
ATTACH;FMTTYPE=image/jpeg:https://octubre.cat/www/wp-content/uploads/2020/07/activitat2652.jpg
END:VEVENT
END:VCALENDAR