BEGIN:VCALENDAR
VERSION:2.0
PRODID:-//Octubre Centre de Cultura Contemporània - ECPv5.1.6//NONSGML v1.0//EN
CALSCALE:GREGORIAN
METHOD:PUBLISH
X-WR-CALNAME:Octubre Centre de Cultura Contemporània
X-ORIGINAL-URL:https://octubre.cat
X-WR-CALDESC:Events for Octubre Centre de Cultura Contemporània
BEGIN:VTIMEZONE
TZID:Europe/Andorra
BEGIN:DAYLIGHT
TZOFFSETFROM:+0100
TZOFFSETTO:+0200
TZNAME:CEST
DTSTART:20140330T010000
END:DAYLIGHT
BEGIN:STANDARD
TZOFFSETFROM:+0200
TZOFFSETTO:+0100
TZNAME:CET
DTSTART:20141026T010000
END:STANDARD
END:VTIMEZONE
BEGIN:VEVENT
DTSTART;TZID=Europe/Andorra:20140415T190000
DTEND;TZID=Europe/Andorra:20140415T190000
DTSTAMP:20260421T054439
CREATED:20200729T170427Z
LAST-MODIFIED:20200730T041116Z
UID:9755-1397588400-1397588400@octubre.cat
SUMMARY:Presentació de Cultsurfing 2014
DESCRIPTION:Dimarts 15 d’abril a les 19.00h\, presentació de Cultsurfing.cat\, xarxa dedicada a crear connexions entre projectes culturals\, donar-los visibilitat i millorar el seu finançament. La presentació anirà a càrrec de Carles Sala (ICUB)  \n  \n  \n\n La presentació anirà a càrrec de Carles Sala (Institut de Cultura de Barcelona)  CultSurfing\, la xarxa per crear connexions entre projectes culturals singulars\, donar-los visibilitat i millorar el seu finançament\, es presentarà a l’Octubre CCC el proper dia 15 d’abril a les 19h a càrrec de Carles Sala\, Responsable de la Direcció Barcelona Capital de l’Institut de Cultura de l’Ajuntament de Barcelona\, per a fer conèixer de prop la proposta als agents culturals del País Valencià.  Després de l’èxit de la primera edició amb més de 200 assistents i 120 projectes presentats a la convocatòria\, CultSurfing prepara la segona edició amb l’objectiu d’augmentar la representativitat del País Valencià i les Illes i consolidar la implicació i assistència d’empreses patrocinadores i mitjans de comunicació.  CultSurfing continua articulant-se en dues branques: la creació d’un catàleg en xarxa  i unes trobades professionals a Fabra i Coats el 14 i 15 d’octubre de 2014 on s’exposaran els projectes seleccionats per la comissió avaluadora. En aquestes jornades es convidarà premsa i patrocinadors i es crearan espais d’intercanvi per potenciar connexions.   IMPORTANT  –Aquesta presentació està dirigida a tots els professionals de la cultura i en tots els àmbits (programadors\, gestors culturals\, museus\, sales d’exposicions\, artistes\, companyies de teatre i dansa\, grups musicals\, etc.) i\, en especial\, als que organitzen projectes culturals singulars. Per assistir cal inscripció prèvia a través del correu info@octubre.cat (indiqueu nom i sector professional)  –Per participar en les trobades del proper mes d’octubre a Fabra i Coats\, en aquest enllaç està tota la informació. El termini d’inscripció finalitza el 30 de maig de 2014
URL:https://octubre.cat/activitat/presentacio-de-cultsurfing-2014/
CATEGORIES:Literatura
ATTACH;FMTTYPE=image/jpeg:https://octubre.cat/www/wp-content/uploads/2020/07/activitat2052.jpg
END:VEVENT
END:VCALENDAR