BEGIN:VCALENDAR
VERSION:2.0
PRODID:-//Octubre Centre de Cultura Contemporània - ECPv5.1.6//NONSGML v1.0//EN
CALSCALE:GREGORIAN
METHOD:PUBLISH
X-WR-CALNAME:Octubre Centre de Cultura Contemporània
X-ORIGINAL-URL:https://octubre.cat
X-WR-CALDESC:Events for Octubre Centre de Cultura Contemporània
BEGIN:VTIMEZONE
TZID:Europe/Andorra
BEGIN:DAYLIGHT
TZOFFSETFROM:+0100
TZOFFSETTO:+0200
TZNAME:CEST
DTSTART:20200329T010000
END:DAYLIGHT
BEGIN:STANDARD
TZOFFSETFROM:+0200
TZOFFSETTO:+0100
TZNAME:CET
DTSTART:20201025T010000
END:STANDARD
END:VTIMEZONE
BEGIN:VEVENT
DTSTART;TZID=Europe/Andorra:20200303T190000
DTEND;TZID=Europe/Andorra:20200303T190000
DTSTAMP:20260421T120136
CREATED:20200729T191354Z
LAST-MODIFIED:20200729T191354Z
UID:13705-1583262000-1583262000@octubre.cat
SUMMARY:Presentació de "Contem històries de dones d'ací - 2"\, de Rosa Roig i Manola Roig
DESCRIPTION:Dimarts 3 de març a les 19.00h\, a la llibreria Fan Set.	 \n  \n  \n\n 	 En esta ocasió les autores conten les històries de 22 dones com Concha Alís\, Celia Amores\, Cecilia Bartolomé\, Lucrècia Borja\, Margarida Borràs\, Maria Cambrils\, Patricia Campos\, Ascensión Chirivella\, Beatriu Civera\, Susi Díaz\, Victoria Fernández\, Lola Gaos\, Ana Belén Giner\, Matilde Gras\, Hortensia Herrero\, Guillermina Medrano\, Núria Oliver\, Teresa Oller\, Esperança Ramos\, Carmelina Sánchez-Cutillas\, Soledad Sevilla i Maruja Tomàs. I tot escrit amb una prosa senzilla\, emotiva i divertida.  (Vincle)
URL:https://octubre.cat/activitat/presentacio-de-contem-histories-de-dones-daci-2-de-rosa-roig-i-manola-roig/
LOCATION:Llibreria Fan Set
CATEGORIES:Literatura
ATTACH;FMTTYPE=image/jpeg:https://octubre.cat/www/wp-content/uploads/2020/07/activitat3447.jpg
END:VEVENT
END:VCALENDAR