BEGIN:VCALENDAR
VERSION:2.0
PRODID:-//Octubre Centre de Cultura Contemporània - ECPv5.1.6//NONSGML v1.0//EN
CALSCALE:GREGORIAN
METHOD:PUBLISH
X-WR-CALNAME:Octubre Centre de Cultura Contemporània
X-ORIGINAL-URL:https://octubre.cat
X-WR-CALDESC:Events for Octubre Centre de Cultura Contemporània
BEGIN:VTIMEZONE
TZID:Europe/Andorra
BEGIN:DAYLIGHT
TZOFFSETFROM:+0100
TZOFFSETTO:+0200
TZNAME:CEST
DTSTART:20160327T010000
END:DAYLIGHT
BEGIN:STANDARD
TZOFFSETFROM:+0200
TZOFFSETTO:+0100
TZNAME:CET
DTSTART:20161030T010000
END:STANDARD
END:VTIMEZONE
BEGIN:VEVENT
DTSTART;TZID=Europe/Andorra:20160506T190000
DTEND;TZID=Europe/Andorra:20160506T190000
DTSTAMP:20260421T165235
CREATED:20200729T171811Z
LAST-MODIFIED:20200729T185501Z
UID:10636-1462561200-1462561200@octubre.cat
SUMMARY:Presentació de 'Cinètica'\, d'Hèctor Serra Cubilles
DESCRIPTION:Divendres 6 de maig a les 19.00h. Amb l’acompanyament musical de Yeray Calvo\, vocalista de Novembre Elèctric.  \n  \n  \n\n XXXV Premi de Poesia «25 d’abril» de la Vila de Benissa 2015 (Viena Edicions).  Amb l’acompanyament musical de Yeray Calvo\, vocalista de Novembre Elèctric.  Héctor Serra Cubilles va néixer a Aldaia (l’Horta Sud). A banda d’haver participat activament en diferents antologies generacionals i mostres poètiques diverses\, la seva obra es pot trobar a la «plaquette» Terrabastall suburbial (Publicacions de la Universitat de València\, premi Bancaixa-UV d’escriptura de creació\, 2010) i al llibre Trèmolo (Germania\, 2013). Cinètica és el seu poemari més expansiu\, tant en continent com en contingut.
URL:https://octubre.cat/activitat/presentacio-de-cinetica-dhector-serra-cubilles/
LOCATION:Llibreria 3i4
CATEGORIES:Literatura
ATTACH;FMTTYPE=image/gif:https://octubre.cat/www/wp-content/uploads/2020/07/activitat2568.gif
END:VEVENT
END:VCALENDAR