BEGIN:VCALENDAR
VERSION:2.0
PRODID:-//Octubre Centre de Cultura Contemporània - ECPv5.1.6//NONSGML v1.0//EN
CALSCALE:GREGORIAN
METHOD:PUBLISH
X-WR-CALNAME:Octubre Centre de Cultura Contemporània
X-ORIGINAL-URL:https://octubre.cat
X-WR-CALDESC:Events for Octubre Centre de Cultura Contemporània
BEGIN:VTIMEZONE
TZID:Europe/Andorra
BEGIN:DAYLIGHT
TZOFFSETFROM:+0100
TZOFFSETTO:+0200
TZNAME:CEST
DTSTART:20160327T010000
END:DAYLIGHT
BEGIN:STANDARD
TZOFFSETFROM:+0200
TZOFFSETTO:+0100
TZNAME:CET
DTSTART:20161030T010000
END:STANDARD
END:VTIMEZONE
BEGIN:VEVENT
DTSTART;TZID=Europe/Andorra:20160225T190000
DTEND;TZID=Europe/Andorra:20160225T190000
DTSTAMP:20260421T184736
CREATED:20200729T171607Z
LAST-MODIFIED:20200729T185407Z
UID:10504-1456426800-1456426800@octubre.cat
SUMMARY:Presentació de 'Capvespre'\, de Josep Bertomeu Moll
DESCRIPTION:Dijous 25 de febrer a les 19.00h. Amb l’autor i Gustau Muñoz\, Mercè Climent i Juli Capilla.  \n  \n  \n\n (Lletra Impresa Edicions)  Amb Gustau Muñoz i amb els editors\, Mercè Climent i Juli Capilla.  De la novel·la Capvespre\, de Josep Bertomeu Moll (Lletra Impresa\, 2016)\, Rafael Chirbes\, Premi Nacional de Narrativa\, diu que: «Crec que les descripcions de la ciutat [València] són de les més belles que he llegit mai: n’he conegut la brutícia\, els camins plens de fang del Cabanyal i Natzaret\, aquella pols blanca.» Afig\, també\, «crec que el teu llibre constitueix també la novel·la contemporània de València que almenys jo trobe a faltar. Gràcies per dur-me totes aquestes coses. Li desitge el millor al llibre\, que em sembla fonamental per a entendre la formació de la classe intel·lectual i política del país.»
URL:https://octubre.cat/activitat/presentacio-de-capvespre-de-josep-bertomeu-moll/
LOCATION:Sala d’actes
CATEGORIES:Literatura
ATTACH;FMTTYPE=image/jpeg:https://octubre.cat/www/wp-content/uploads/2020/07/activitat2499.jpg
END:VEVENT
END:VCALENDAR