BEGIN:VCALENDAR
VERSION:2.0
PRODID:-//Octubre Centre de Cultura Contemporània - ECPv5.1.6//NONSGML v1.0//EN
CALSCALE:GREGORIAN
METHOD:PUBLISH
X-WR-CALNAME:Octubre Centre de Cultura Contemporània
X-ORIGINAL-URL:https://octubre.cat
X-WR-CALDESC:Events for Octubre Centre de Cultura Contemporània
BEGIN:VTIMEZONE
TZID:Europe/Andorra
BEGIN:DAYLIGHT
TZOFFSETFROM:+0100
TZOFFSETTO:+0200
TZNAME:CEST
DTSTART:20150329T010000
END:DAYLIGHT
BEGIN:STANDARD
TZOFFSETFROM:+0200
TZOFFSETTO:+0100
TZNAME:CET
DTSTART:20151025T010000
END:STANDARD
END:VTIMEZONE
BEGIN:VEVENT
DTSTART;TZID=Europe/Andorra:20150702T190000
DTEND;TZID=Europe/Andorra:20150702T190000
DTSTAMP:20260422T001707
CREATED:20200729T171202Z
LAST-MODIFIED:20200730T041507Z
UID:10245-1435863600-1435863600@octubre.cat
SUMMARY:Presentació de 'Canvi dels àngels'\, d'Ivan Brull
DESCRIPTION:Dijous 2 de juliol a les 19.00h. Amb l’autor i Paco Muñoz.  \n  \n  \n\n Presentació del CD Canvi dels àngels del poeta i músic Ivan Brull (Comboi Rècords).  Amb l’autor i Paco Muñoz.
URL:https://octubre.cat/activitat/presentacio-de-canvi-dels-angels-divan-brull/
LOCATION:Llibreria 3i4
CATEGORIES:Literatura
ATTACH;FMTTYPE=image/jpeg:https://octubre.cat/www/wp-content/uploads/2020/07/activitat2361.jpg
END:VEVENT
END:VCALENDAR