BEGIN:VCALENDAR
VERSION:2.0
PRODID:-//Octubre Centre de Cultura Contemporània - ECPv5.1.6//NONSGML v1.0//EN
CALSCALE:GREGORIAN
METHOD:PUBLISH
X-WR-CALNAME:Octubre Centre de Cultura Contemporània
X-ORIGINAL-URL:https://octubre.cat
X-WR-CALDESC:Events for Octubre Centre de Cultura Contemporània
BEGIN:VTIMEZONE
TZID:Europe/Andorra
BEGIN:DAYLIGHT
TZOFFSETFROM:+0100
TZOFFSETTO:+0200
TZNAME:CEST
DTSTART:20140330T010000
END:DAYLIGHT
BEGIN:STANDARD
TZOFFSETFROM:+0200
TZOFFSETTO:+0100
TZNAME:CET
DTSTART:20141026T010000
END:STANDARD
END:VTIMEZONE
BEGIN:VEVENT
DTSTART;TZID=Europe/Andorra:20141204T190000
DTEND;TZID=Europe/Andorra:20141204T190000
DTSTAMP:20260421T072415
CREATED:20200729T170807Z
LAST-MODIFIED:20200730T041303Z
UID:9994-1417719600-1417719600@octubre.cat
SUMMARY:Presentació de '3 días / 3 dies'\, d'Albert Garcia Hernández
DESCRIPTION:Dijous 4 de desembre a les 19.00h\, a la llibreria 3i4  \n  \n  \n\n Ediciones Contrabando
URL:https://octubre.cat/activitat/presentacio-de-3-dias-3-dies-dalbert-garcia-hernandez/
LOCATION:Llibreria 3i4
CATEGORIES:Literatura
ATTACH;FMTTYPE=image/jpeg:https://octubre.cat/www/wp-content/uploads/2020/07/activitat2195.jpg
END:VEVENT
END:VCALENDAR