BEGIN:VCALENDAR
VERSION:2.0
PRODID:-//Octubre Centre de Cultura Contemporània - ECPv5.1.6//NONSGML v1.0//EN
CALSCALE:GREGORIAN
METHOD:PUBLISH
X-WR-CALNAME:Octubre Centre de Cultura Contemporània
X-ORIGINAL-URL:https://octubre.cat
X-WR-CALDESC:Events for Octubre Centre de Cultura Contemporània
BEGIN:VTIMEZONE
TZID:Europe/Andorra
BEGIN:DAYLIGHT
TZOFFSETFROM:+0100
TZOFFSETTO:+0200
TZNAME:CEST
DTSTART:20120325T010000
END:DAYLIGHT
BEGIN:STANDARD
TZOFFSETFROM:+0200
TZOFFSETTO:+0100
TZNAME:CET
DTSTART:20121028T010000
END:STANDARD
END:VTIMEZONE
BEGIN:VEVENT
DTSTART;TZID=Europe/Andorra:20121213T190000
DTEND;TZID=Europe/Andorra:20121213T190000
DTSTAMP:20260421T115724
CREATED:20200729T165851Z
LAST-MODIFIED:20200729T183946Z
UID:9436-1355425200-1355425200@octubre.cat
SUMMARY:Presentació de '2000maniacos' núm. 43
DESCRIPTION:Dijous 13 de desembre a les 19.00h: presentació del número 43 del fanzine “2000maniacos” dedicat a Fu-Manxú i el “perill groc”  \n  \n  \n\n El fanzine 2000maniacos fa vint-i-tres anys i presenta el seu darrer número\, el 43\, editat per la Semana de Cine Fantástico y de Terror de San Sebastián. Un monogràfic especial dedicat a la figura del doctor Fu-Manxú i el “Perill Groc”. Novel·les\, pel·lícules\, serials\, geishes\, tebeos\, actors que l’interpretaren\, paròdies extravagants… Absolutament tot sobre el malèvol i pèrfid mandarí\, el personatge mític creat per l’escriptor britànic Sax Rohmer en la primera mitat del segle XX i que ja pertany a la iconografia pop.  2000maniacos és la publicació independent més veterana de tot el panorama alternatiu. Creada en 1989\, s’ha convertit en una de les capçaleres de culte especialitzades en cinema popular\, de sèrie B\, terror\, fantàstic i eròtic. El secret d’aquest combatiu fanzine és la seua filosofia\, que inclou un sentit didàctic i erudit de l’arqueologia cinematogràfica acompanyada d’un esperit lúdic i popular.  La presentació anirà a càrrec de Manuel Valencia (director) i del col·laborador El Abuelito
URL:https://octubre.cat/activitat/presentacio-de-2000maniacos-num-43/
LOCATION:No definit
CATEGORIES:Literatura
ATTACH;FMTTYPE=image/jpeg:https://octubre.cat/www/wp-content/uploads/2020/07/activitat1686.jpg
END:VEVENT
END:VCALENDAR