BEGIN:VCALENDAR
VERSION:2.0
PRODID:-//Octubre Centre de Cultura Contemporània - ECPv5.1.6//NONSGML v1.0//EN
CALSCALE:GREGORIAN
METHOD:PUBLISH
X-WR-CALNAME:Octubre Centre de Cultura Contemporània
X-ORIGINAL-URL:https://octubre.cat
X-WR-CALDESC:Events for Octubre Centre de Cultura Contemporània
BEGIN:VTIMEZONE
TZID:Europe/Andorra
BEGIN:DAYLIGHT
TZOFFSETFROM:+0100
TZOFFSETTO:+0200
TZNAME:CEST
DTSTART:20110327T010000
END:DAYLIGHT
BEGIN:STANDARD
TZOFFSETFROM:+0200
TZOFFSETTO:+0100
TZNAME:CET
DTSTART:20111030T010000
END:STANDARD
END:VTIMEZONE
BEGIN:VEVENT
DTSTART;TZID=Europe/Andorra:20111118T190000
DTEND;TZID=Europe/Andorra:20111118T190000
DTSTAMP:20260421T190926
CREATED:20200729T165631Z
LAST-MODIFIED:20200730T042908Z
UID:9294-1321642800-1321642800@octubre.cat
SUMMARY:Presentació d’”Ara\, Estellés”
DESCRIPTION:Divendres 18 de novembre\, a les 19.00h: presentació del llibre “Ara\, Estellés. 12 poemes\, 12 cançons a Benicarló”\, amb un concert de Ximo Caffarena i Quim Sanç  \n  \n  \n\nPresentació del llibre “Ara\, Estellés. 12 poemes\, 12 cançons a Benicarló” (Onada Edicions)  Amb concert de Ximo Caffarena i Quim Sanç  Aquest últim treball sobre Vicent Andrés Estellés\, naix d’unes jornades literàries organitzades a l’Institut d’Educació Secundària Joan Coromines de Benicarló (Baix Maestrat). El que en un primer moment pretenia ser una conferencia i un recital \, va esdevindre tres setmanes de xerrades\, concerts\, recitals i una exposició per part d’estudiosos de l’obra estellesiana com de les millors veus del País Valencia. És per això que el professorat va decidir publicar el material treballat per tal que l’alumnat i el públic en general puguen apropar-se a la figura del poeta. El llibre va acompanyat d’un CD amb dotze poemes músicat per Ximo Caffarena . Dotze cançons inèdites que recullen els sons més tradicionals valencians.  Entrada lliure
URL:https://octubre.cat/activitat/presentacio-dara-estelles/
LOCATION:No definit
CATEGORIES:Literatura
ATTACH;FMTTYPE=image/jpeg:https://octubre.cat/www/wp-content/uploads/2020/07/activitat1527.jpg
END:VEVENT
END:VCALENDAR