BEGIN:VCALENDAR
VERSION:2.0
PRODID:-//Octubre Centre de Cultura Contemporània - ECPv5.1.6//NONSGML v1.0//EN
CALSCALE:GREGORIAN
METHOD:PUBLISH
X-WR-CALNAME:Octubre Centre de Cultura Contemporània
X-ORIGINAL-URL:https://octubre.cat
X-WR-CALDESC:Events for Octubre Centre de Cultura Contemporània
BEGIN:VTIMEZONE
TZID:Europe/Andorra
BEGIN:DAYLIGHT
TZOFFSETFROM:+0100
TZOFFSETTO:+0200
TZNAME:CEST
DTSTART:20160327T010000
END:DAYLIGHT
BEGIN:STANDARD
TZOFFSETFROM:+0200
TZOFFSETTO:+0100
TZNAME:CET
DTSTART:20161030T010000
END:STANDARD
END:VTIMEZONE
BEGIN:VEVENT
DTSTART;TZID=Europe/Andorra:20160226T193000
DTEND;TZID=Europe/Andorra:20160226T193000
DTSTAMP:20260421T200846
CREATED:20200729T171608Z
LAST-MODIFIED:20200729T185407Z
UID:10505-1456515000-1456515000@octubre.cat
SUMMARY:Presentació d''Agres i dolces'\, de Paco Esteve
DESCRIPTION:Divendres 26 de febrer a les 19.30h i a la llibreria 3i4.  \n  \n  \n\n (Ed. Bullent).  Amb l’autor\, acompanyat del filòleg Emili Casanova i de la contacontes Almudena Francés. A més a més\, comptarem amb el grup Esir per a les cançons d’Agres\, i amb el Celler l’Avi\, per al vi.  Estratègicament arrecerat a la vall septentrional de la serra de Mariola\, el parlar d’Agres (el Comtat) manté el sabor ancestral d’una manera de comunicar-se única al món i és alhora punt de trobada dels parlars de la Vall d’Albaida i la Costera amb els de l’Alcoià i el Comtat. Agres i dolces apareix amb la voluntat de divulgar i repopularitzar un material lingüístic i literari ben viu.
URL:https://octubre.cat/activitat/presentacio-dagres-i-dolces-de-paco-esteve/
LOCATION:Llibreria 3i4
CATEGORIES:Literatura
ATTACH;FMTTYPE=image/jpeg:https://octubre.cat/www/wp-content/uploads/2020/07/activitat2500.jpg
END:VEVENT
END:VCALENDAR