BEGIN:VCALENDAR
VERSION:2.0
PRODID:-//Octubre Centre de Cultura Contemporània - ECPv5.1.6//NONSGML v1.0//EN
CALSCALE:GREGORIAN
METHOD:PUBLISH
X-WR-CALNAME:Octubre Centre de Cultura Contemporània
X-ORIGINAL-URL:https://octubre.cat
X-WR-CALDESC:Events for Octubre Centre de Cultura Contemporània
BEGIN:VTIMEZONE
TZID:Europe/Andorra
BEGIN:DAYLIGHT
TZOFFSETFROM:+0100
TZOFFSETTO:+0200
TZNAME:CEST
DTSTART:20210328T010000
END:DAYLIGHT
BEGIN:STANDARD
TZOFFSETFROM:+0200
TZOFFSETTO:+0100
TZNAME:CET
DTSTART:20211031T010000
END:STANDARD
END:VTIMEZONE
BEGIN:VEVENT
DTSTART;TZID=Europe/Andorra:20210430T190000
DTEND;TZID=Europe/Andorra:20210430T190000
DTSTAMP:20260421T132158
CREATED:20210329T114737Z
LAST-MODIFIED:20210330T153034Z
UID:16213-1619809200-1619809200@octubre.cat
SUMMARY:Presentació d'Afers Narrativa
DESCRIPTION:L’editorial Afers eixampla el seu catàleg amb una nova col·lecció de narrativa dedicada a la literatura estrangera i la literatura catalana. Us convidem a la presentació dels tres primers títols de la col·lecció: \n– Mal jueu\, de Piotr Smolar: un relat familiar d’exili i combat al cor d’Europa i una pregunta ineludible: què significa ser jueu avui? \n– Espurna\, de Xavier Serra: novel·la coral sobre les esperances i les frustracions de la lluita clandestina d’un grup de joves militants als darrers espeternecs de la dictadura franquista. L’anhel d’una triple revolta social\, política i nacional que mai n’ha arribat a encendre’s. \n– L’Agnese va a morir\, de Renata Viganò: un clàssic de la literatura italiana sobre la resistència partisana durant la Segona Guerra Mundial. A la crueltat i l’anihilació moral de la guerra feixista s’hi oposen la fraternitat i l’heroïcitat anònima d’una “mamma” Agnese que s’alça contra la indiferència i tria morir. \n \n  \nEn la presentació hi intervindran els membres del comité de direcció de la col·lecció: Josep Alapont\, Vicent Olmos i Clàudia Serra.
URL:https://octubre.cat/activitat/presentacio-dafers-narrativa/
LOCATION:Llibreria Fan Set
CATEGORIES:Literatura
ATTACH;FMTTYPE=image/jpeg:https://octubre.cat/www/wp-content/uploads/2021/03/llibres.jpg
END:VEVENT
END:VCALENDAR