BEGIN:VCALENDAR
VERSION:2.0
PRODID:-//Octubre Centre de Cultura Contemporània - ECPv5.1.6//NONSGML v1.0//EN
CALSCALE:GREGORIAN
METHOD:PUBLISH
X-WR-CALNAME:Octubre Centre de Cultura Contemporània
X-ORIGINAL-URL:https://octubre.cat
X-WR-CALDESC:Events for Octubre Centre de Cultura Contemporània
BEGIN:VTIMEZONE
TZID:Europe/Andorra
BEGIN:DAYLIGHT
TZOFFSETFROM:+0100
TZOFFSETTO:+0200
TZNAME:CEST
DTSTART:20110327T010000
END:DAYLIGHT
BEGIN:STANDARD
TZOFFSETFROM:+0200
TZOFFSETTO:+0100
TZNAME:CET
DTSTART:20111030T010000
END:STANDARD
END:VTIMEZONE
BEGIN:VEVENT
DTSTART;TZID=Europe/Andorra:20111228T193000
DTEND;TZID=Europe/Andorra:20111228T193000
DTSTAMP:20260424T060615
CREATED:20200729T165644Z
LAST-MODIFIED:20200730T042918Z
UID:9307-1325100600-1325100600@octubre.cat
SUMMARY:Presentació '2000maniacos' hivern 2011
DESCRIPTION:Dimecres 28 de desembre a les 19.30h: presentació del darrer número de la revista “2000maniacos”  \n  \n  \n\nPresentació del núm. 42 del fanzine “2000maniacos” (hivern 2011) dedicat al “cinema exòtic”. Número coproduït per la XXII Setmana de Cinema Fantàstic i de Terror de Donostia.  El fanzine valencià “2000maniacos” presenta el darrer número\, editat per la Setmana de Cinema Fantàstic i de Terror de Donostia amb motiu de la seua darrera edició. Un especial “exòtic” que proposa una actitud bel·ligerant contra la crisi\, encara que siga amb garrot\, en tapaculs i des de la caverna d’una illa salvatge a la fi del món. Un monogràfic històric que resumeix en les seues atapeïdes 84 pàgines un cinema delirant poblat de caníbals\, goril·les i pin-ups en bikini de lleopard.  El fanzine “2000maniacos” és la publicació independent més veterana de tot el panorama alternatiu. Creada en 1989\, s’ha convertit en una de les capçaleres de culte especialitzades en cinema popular\, de sèrie B\, trash\, fantàstic\, bizarro i eròtic. Per les seues pàgines han passat monstres de goma\, fel·latrius\, paladins de la caspa celtibèrica\, engendres de l’espai exterior i espantalls del cinema més sanguinolent. El secret d’aquest singular fanzine és la seua filosofia\, que conjuga un sentit didàctic i erudit de l’arqueologia cinematogràfica juntament amb un esperit refrescant i sempre lúdic.  Manuel Valencia és el director del “2000maniacos”. Als dinou anys\, edant en lq eu moltes persones decideixen encaminar la seua vida cap a l’advocacia o la gestió empresarial\, ell va soterrar el seu futur prestigi com a periodista amb l’edició d’un fanzine dedicat al cinema més injuriat del món: el cinema popular. I des d’aquell moment fins ara. A més\, al seu curriculum hi ha altres èxits menors com fer el guió de més de sis-cents programes de televisió\, dirigir sèries infantils i pel·lícules experimentals o escriure habitualment a setmanaris i revistes dedicades a l’entreteniment i les tendències culturals.
URL:https://octubre.cat/activitat/presentacio-2000maniacos-hivern-2011/
LOCATION:No definit
CATEGORIES:Literatura
ATTACH;FMTTYPE=image/jpeg:https://octubre.cat/www/wp-content/uploads/2020/07/activitat1543.jpg
END:VEVENT
END:VCALENDAR