BEGIN:VCALENDAR
VERSION:2.0
PRODID:-//Octubre Centre de Cultura Contemporània - ECPv5.1.6//NONSGML v1.0//EN
CALSCALE:GREGORIAN
METHOD:PUBLISH
X-WR-CALNAME:Octubre Centre de Cultura Contemporània
X-ORIGINAL-URL:https://octubre.cat
X-WR-CALDESC:Events for Octubre Centre de Cultura Contemporània
BEGIN:VTIMEZONE
TZID:Europe/Andorra
BEGIN:DAYLIGHT
TZOFFSETFROM:+0100
TZOFFSETTO:+0200
TZNAME:CEST
DTSTART:20100328T010000
END:DAYLIGHT
BEGIN:STANDARD
TZOFFSETFROM:+0200
TZOFFSETTO:+0100
TZNAME:CET
DTSTART:20101031T010000
END:STANDARD
END:VTIMEZONE
BEGIN:VEVENT
DTSTART;TZID=Europe/Andorra:20100309T190000
DTEND;TZID=Europe/Andorra:20100309T190000
DTSTAMP:20260420T213811
CREATED:20200729T164822Z
LAST-MODIFIED:20200729T182853Z
UID:8783-1268161200-1268161200@octubre.cat
SUMMARY:Presentació '20 anys de Canal 9'
DESCRIPTION:Dimarts 9 de març\, a les 19.00h: Presentació del llibre “20 anys de Canal 9”\, de Josep Roselló. Amb José Ignacio Pastor i Francesc Fenollosa.   \n  \n  \n\nPresentació del llibre 20 anys de Canal 9. El paper de la televisió pública en la societat valenciana (Ed. Obra Propia)\, de Josep Roselló.   Amb la presència de l’autor\, que estarà acompanyat per José Ignacio Pastor\, president de l’Associació Ciutadania i Comunicació i vicepresident del Consell d’Administració de RTVV\, i Francesc Fenollosa\, productor i organitzador del Festival Internacional Tirant de Mòbil.  L’obra La nostra televisió compleix vint anys. És un bon moment per fer balanç i preguntar-se sobre les circumstàncies que l’han condicionada durant tot aquest temps. La influència de la política en l’ens\, els antecedents televisius\, la programació i els informatius\, l’ús i la qualitat de la llengua\, la vertebració del territori autonòmic i el paper dinamitzador de la indústria audiovisual autòctona han estat sotmesos a anàlisi en un assaig que ajudarà a comprendre la importància del paper de la televisió pública autonòmica en la societat valenciana.  L’autor Josep Roselló (Calp\, 1981) és llicenciat en Traducció i Interpretació per la Universitat Jaume I de Castelló i en l’actualitat és alumne del grau de Comunicació Audiovisual de l’esmentat centre superior. Ha estat redactor de El Periódico Mediterráneo i col·laborador de Levante de Castelló\, El Mundo Castellón al Día i Las Provincias. També va tractar la llengua en els mitjans de comunicació com a becari d’investigació de l’Acadèmia Valenciana de la Llengua amb el seu treball Model de llengua per al cinema en valencià.   Amb la col·laboració de l’Associació Ciutadania i Comunicació.
URL:https://octubre.cat/activitat/presentacio-20-anys-de-canal-9/
LOCATION:No definit
CATEGORIES:Literatura
ATTACH;FMTTYPE=image/bmp:https://octubre.cat/www/wp-content/uploads/2020/07/activitat1130.bmp
END:VEVENT
END:VCALENDAR