BEGIN:VCALENDAR
VERSION:2.0
PRODID:-//Octubre Centre de Cultura Contemporània - ECPv5.1.6//NONSGML v1.0//EN
CALSCALE:GREGORIAN
METHOD:PUBLISH
X-WR-CALNAME:Octubre Centre de Cultura Contemporània
X-ORIGINAL-URL:https://octubre.cat
X-WR-CALDESC:Events for Octubre Centre de Cultura Contemporània
BEGIN:VTIMEZONE
TZID:Europe/Andorra
BEGIN:DAYLIGHT
TZOFFSETFROM:+0100
TZOFFSETTO:+0200
TZNAME:CEST
DTSTART:20090329T010000
END:DAYLIGHT
BEGIN:STANDARD
TZOFFSETFROM:+0200
TZOFFSETTO:+0100
TZNAME:CET
DTSTART:20091025T010000
END:STANDARD
END:VTIMEZONE
BEGIN:VEVENT
DTSTART;TZID=Europe/Andorra:20091111T193000
DTEND;TZID=Europe/Andorra:20091111T193000
DTSTAMP:20260420T210214
CREATED:20200729T182636Z
LAST-MODIFIED:20200729T182636Z
UID:12943-1257967800-1257967800@octubre.cat
SUMMARY:Presentació '2 amics de 20 anys (Espriu i Rosselló-Pòrcel)'
DESCRIPTION:Dimecres 11 de novembre\, a les 19.30h: Presentació del llibre “2 amics de 20 anys (Espriu i Rosselló-Pòrcel)”\, de Xavier Abraham.   \n  \n  \n\nPresentació del llibre: 2 amics de 20 anys (Espriu i Rosselló-Pòrcel)  Amb la participació de:  Xavier Abraham\, autor de l’obra.  Andreu Ramis\, de l’Obra Social Sa Nostra.  Jaume Pérez Montaner\, escriptor.   Paral·lelament a l’exposició de 36 panells dels poetes Bartomeu Rosselló-Pòrcel i Salvador Espriu que es podrà veure al Centre Ovidi Montllor d’Alcoi\, es presenta el llibre 2 amics de 20 anys (Espriu i Rosselló-Pòrcel) que repassa la relació que mantingueren a la Ciutat Comtal aquests dos íntims amics entre 1930 i 1938\, any del decés d’aquest darrer\, en un volum de luxe i a tot color que inclou un DVD.   Ha tingut cura del projecte i dels textos\, als quals s’uneix un pròleg de l’especialista en Espriu Rosa Delor\, Xavier Abraham\, que presentarà el llibre a l’Espai Illes Balears al costat del poeta valencià Jaume Pérez Montaner. Hi col·labora l’Obra Social “Sa Nostra” Caixa de Balears.
URL:https://octubre.cat/activitat/presentacio-2-amics-de-20-anys-espriu-i-rossello-porcel/
LOCATION:No definit
CATEGORIES:Espai Illes Balears
ATTACH;FMTTYPE=image/jpeg:https://octubre.cat/www/wp-content/uploads/2020/07/activitat977.jpg
END:VEVENT
END:VCALENDAR