BEGIN:VCALENDAR
VERSION:2.0
PRODID:-//Octubre Centre de Cultura Contemporània - ECPv5.1.6//NONSGML v1.0//EN
CALSCALE:GREGORIAN
METHOD:PUBLISH
X-WR-CALNAME:Octubre Centre de Cultura Contemporània
X-ORIGINAL-URL:https://octubre.cat
X-WR-CALDESC:Events for Octubre Centre de Cultura Contemporània
BEGIN:VTIMEZONE
TZID:Europe/Andorra
BEGIN:DAYLIGHT
TZOFFSETFROM:+0100
TZOFFSETTO:+0200
TZNAME:CEST
DTSTART:20110327T010000
END:DAYLIGHT
BEGIN:STANDARD
TZOFFSETFROM:+0200
TZOFFSETTO:+0100
TZNAME:CET
DTSTART:20111030T010000
END:STANDARD
END:VTIMEZONE
BEGIN:VEVENT
DTSTART;TZID=Europe/Andorra:20110428T190000
DTEND;TZID=Europe/Andorra:20110428T190000
DTSTAMP:20260422T060930
CREATED:20200729T165512Z
LAST-MODIFIED:20200730T042810Z
UID:9216-1304017200-1304017200@octubre.cat
SUMMARY:Presència del metge en el Tirant lo Blanc
DESCRIPTION:Dijous 28 d’abril\, a les 19.00h: “Presència del metge en el Tirant lo Blanc”\, conferència a càrrec de Lluís Cerveró (pediatra).   \n  \n  \n\nPresència del metge en el Tirant lo Blanc  Conferència a càrrec de Lluís Cerveró\, pediatra.  ―Guarda ―dix Plaerdemavida― què dius\, que gran dubte serà que no muires. E si mors\, la tua mort serà criminosa. Guarda bé que no et facen mal los talons\, com jo haja oït dir als metges que a nosaltres\, dones\, la primera dolor nos ve en les ungles\, aprés als peus\, puja als genolls e a les cuixes\, e a vegades entra en lo secret\, e aquí dóna gran turment e d’aquí se’n puja al cap\, torba lo cervell\, e d’aquí s’engendra lo mal de caure. E aquesta malaltia no et penses que vinga sovint\, segons diu lo gran filòsof Galièn\, metge molt subtil\, que no ve sinó una vegada en vida\, e per bé que sia mal incurable\, no és mortal\, mas ha-hi molts remeis qui ajudar-se’n vol. Aquesta mia epístola és bona e verdadera\, e per ço no deus haver admiració de mi si conec les malalties\, que si em mostres la llengua jo et sabré dir lo mal que tens.
URL:https://octubre.cat/activitat/presencia-del-metge-en-el-tirant-lo-blanc/
LOCATION:No definit
CATEGORIES:Societat Valenciana de Ciències de la Salut
ATTACH;FMTTYPE=image/jpeg:https://octubre.cat/www/wp-content/uploads/2020/07/activitat1444.jpg
END:VEVENT
END:VCALENDAR