BEGIN:VCALENDAR
VERSION:2.0
PRODID:-//Octubre Centre de Cultura Contemporània - ECPv5.1.6//NONSGML v1.0//EN
CALSCALE:GREGORIAN
METHOD:PUBLISH
X-WR-CALNAME:Octubre Centre de Cultura Contemporània
X-ORIGINAL-URL:https://octubre.cat
X-WR-CALDESC:Events for Octubre Centre de Cultura Contemporània
BEGIN:VTIMEZONE
TZID:Europe/Andorra
BEGIN:DAYLIGHT
TZOFFSETFROM:+0100
TZOFFSETTO:+0200
TZNAME:CEST
DTSTART:20220327T010000
END:DAYLIGHT
BEGIN:STANDARD
TZOFFSETFROM:+0200
TZOFFSETTO:+0100
TZNAME:CET
DTSTART:20221030T010000
END:STANDARD
END:VTIMEZONE
BEGIN:VEVENT
DTSTART;TZID=Europe/Andorra:20220217T190000
DTEND;TZID=Europe/Andorra:20220217T190000
DTSTAMP:20260420T142133
CREATED:20220201T164541Z
LAST-MODIFIED:20220201T164541Z
UID:17773-1645124400-1645124400@octubre.cat
SUMMARY:Premis VOC. Mostra d’audiovisual en català (2)
DESCRIPTION:Acció Cultural del País Valencià col·labora perquè la Mostra d’audiovisual dels Premis VOC es projecte arreu del País Valencià. En cada sessió es projectaran sis curtmetratges dels dotze que participen al concurs. Les sessions de l’Octubre CCC tindran lloc els dijous 10 i 17 de febrer. \nPremis VOC (acrònim de Versió Original en Català) és un projecte impulsat per Òmnium Cultural amb la finalitat d’estimular la producció de continguts audiovisuals de qualitat en llengua catalana\, contribuir a la seva difusió i ampliar-ne el públic. \nPremis VOC són uns premis que volen reconèixer els millors curtmetratges\, websèries\, videoblogs i nous formats audiovisuals realitzats originalment en català i incentivar la creació de nous continguts. \nVINE I PARTICIPA EN LES VOTACIONS! \n  \nSessió 2: dijous 17 de febrer a les 19.00h: \n—Fuga\, d’Àlex Sardà\nProducció: Nanouk Films (2021)\nDurada: 22’ \n—Sol sol\, d’Àlex Arroyo\nProducció: Ensoldemà Films (2021)\nDurada: 11′ \n—Animal salvatge\, de Maria Besora\nProducció: Escac Films (2021)\nDurada: 23′ \n—Rega’m les plantes\, de Jordi Sanz\nProducció: Aroma Films (2021)\nDurada: 17′ \n—L’última impressió\, de Marta Alonso\n(2021)\nDurada: 12’ \n—Ella i jo\, de Jaume Claret\n(2020)\nDurada: 20′ \n—\nOrganitzat per Òmnium Cultural amb la col·laboració d’Acció Cultural del País Valencià
URL:https://octubre.cat/activitat/premis-voc-mostra-daudiovisual-en-catala-2/
LOCATION:Sala d’actes
CATEGORIES:Cinema
ATTACH;FMTTYPE=image/jpeg:https://octubre.cat/www/wp-content/uploads/2022/02/premis-voc.jpg
END:VEVENT
END:VCALENDAR