BEGIN:VCALENDAR
VERSION:2.0
PRODID:-//Octubre Centre de Cultura Contemporània - ECPv5.1.6//NONSGML v1.0//EN
CALSCALE:GREGORIAN
METHOD:PUBLISH
X-WR-CALNAME:Octubre Centre de Cultura Contemporània
X-ORIGINAL-URL:https://octubre.cat
X-WR-CALDESC:Events for Octubre Centre de Cultura Contemporània
BEGIN:VTIMEZONE
TZID:Europe/Andorra
BEGIN:DAYLIGHT
TZOFFSETFROM:+0100
TZOFFSETTO:+0200
TZNAME:CEST
DTSTART:20250330T010000
END:DAYLIGHT
BEGIN:STANDARD
TZOFFSETFROM:+0200
TZOFFSETTO:+0100
TZNAME:CET
DTSTART:20251026T010000
END:STANDARD
END:VTIMEZONE
BEGIN:VEVENT
DTSTART;TZID=Europe/Andorra:20250115T190000
DTEND;TZID=Europe/Andorra:20250115T190000
DTSTAMP:20260420T130515
CREATED:20241205T112405Z
LAST-MODIFIED:20241215T094148Z
UID:22039-1736967600-1736967600@octubre.cat
SUMMARY:Premis Nobel 2024: Química
DESCRIPTION:Premi atorgat a David Baker “pel disseny computacional de proteïnes” i a Demis Hassabis i John Jumper “per la predicció de l’estructura de les proteïnes”. \nConferència “Han descobert el ‘segon’ codi?” a càrrec d’Ismael Mingarro (Departament de Bioquímica i Biologia Molecular\, Institut Biotecmed\, Universitat de València). \nMés informació \n—\nL’Espai Ciència de l’Octubre CCC és una iniciativa de l’Institut d’Estudis Catalans i compta amb la col·laboració d’Acció Cultural del País Valencià\, la Unitat de Cultura Científica i Innovació / Càtedra de Divulgació de la Ciència de la UV\, la Fundació Espanyola per a la Ciència i la Tecnologia\, el Centre Superior d’Investigacions Científiques\, la llibreria Fan Set i la revista Mètode. \nAmb el suport de les facultats de Ciències biològiques\, Física i Química de la Universitat de València.
URL:https://octubre.cat/activitat/premis-nobel-2024-quimica/
LOCATION:Aula 1
CATEGORIES:Espai Ciència
ATTACH;FMTTYPE=image/webp:https://octubre.cat/www/wp-content/uploads/2024/12/nobel_quimica_2024.webp
END:VEVENT
END:VCALENDAR