BEGIN:VCALENDAR
VERSION:2.0
PRODID:-//Octubre Centre de Cultura Contemporània - ECPv5.1.6//NONSGML v1.0//EN
CALSCALE:GREGORIAN
METHOD:PUBLISH
X-WR-CALNAME:Octubre Centre de Cultura Contemporània
X-ORIGINAL-URL:https://octubre.cat
X-WR-CALDESC:Events for Octubre Centre de Cultura Contemporània
BEGIN:VTIMEZONE
TZID:Europe/Andorra
BEGIN:DAYLIGHT
TZOFFSETFROM:+0100
TZOFFSETTO:+0200
TZNAME:CEST
DTSTART:20240331T010000
END:DAYLIGHT
BEGIN:STANDARD
TZOFFSETFROM:+0200
TZOFFSETTO:+0100
TZNAME:CET
DTSTART:20241027T010000
END:STANDARD
END:VTIMEZONE
BEGIN:VEVENT
DTSTART;TZID=Europe/Andorra:20240129T190000
DTEND;TZID=Europe/Andorra:20240129T190000
DTSTAMP:20260421T103659
CREATED:20231201T103232Z
LAST-MODIFIED:20250713T083545Z
UID:20674-1706554800-1706554800@octubre.cat
SUMMARY:Premis Nobel 2023: Fisiologia o Medicina
DESCRIPTION:Premi atorgat a Katalin Karikó i Drew Weissman «pels seus descobriments sobre les modificacions de les bases que permeteren desenvolupat vacunes eficaces d’ARNm contra COVID-19» \nConferència «Vacunes d’ARNm: una simfonia de tenacitat i atzar en el Nobel de Medicina» a càrrec de Javier Martínez-Picado (professor de Recerca ICREA a l’IrsiCaixa\, professor associat de la UVic-UCC). \nMés informació \n—\nL’Espai Ciència de l’Octubre CCC és una iniciativa de l’Institut d’Estudis Catalans i compta amb la col·laboració d’Acció Cultural del País Valencià\, la Unitat de Cultura Científica i Innovació / Càtedra de Divulgació de la Ciència de la UV\, la Fundació Espanyola per a la Ciència i la Tecnologia\, el Centre Superior d’Investigacions Científiques\, la llibreria Fan Set i la revista Mètode.
URL:https://octubre.cat/activitat/premis-nobel-2023-fisiologia-o-medicina/
LOCATION:Aula 1
CATEGORIES:Espai Ciència
ATTACH;FMTTYPE=image/jpeg:https://octubre.cat/www/wp-content/uploads/2023/12/nobel-2023-medicina.jpg
END:VEVENT
END:VCALENDAR