BEGIN:VCALENDAR
VERSION:2.0
PRODID:-//Octubre Centre de Cultura Contemporània - ECPv5.1.6//NONSGML v1.0//EN
CALSCALE:GREGORIAN
METHOD:PUBLISH
X-WR-CALNAME:Octubre Centre de Cultura Contemporània
X-ORIGINAL-URL:https://octubre.cat
X-WR-CALDESC:Events for Octubre Centre de Cultura Contemporània
BEGIN:VTIMEZONE
TZID:Europe/Andorra
BEGIN:DAYLIGHT
TZOFFSETFROM:+0100
TZOFFSETTO:+0200
TZNAME:CEST
DTSTART:20230326T010000
END:DAYLIGHT
BEGIN:STANDARD
TZOFFSETFROM:+0200
TZOFFSETTO:+0100
TZNAME:CET
DTSTART:20231029T010000
END:STANDARD
END:VTIMEZONE
BEGIN:VEVENT
DTSTART;TZID=Europe/Andorra:20230116T190000
DTEND;TZID=Europe/Andorra:20230116T190000
DTSTAMP:20260420T164221
CREATED:20221110T114220Z
LAST-MODIFIED:20250710T093942Z
UID:19051-1673895600-1673895600@octubre.cat
SUMMARY:Premis Nobel 2022: Química
DESCRIPTION:Premi atorgat a Carolyn R. Bertozzi\, Morten Meldal i K. Barry Sharpless “pel desenvolupament de la química clic i la química bioortogonal”. \nConferència “Química clic i química bioortogonal: bessones amb Premi Nobel” a càrrec de Salah-Eddine Stiriba (departament de Química Orgànica\, Facultat de Química\, i Institut de Ciència Molecular\, Universitat de València. \nMés informació \n—\nL’Espai Ciència de l’Octubre CCC és una iniciativa de l’Institut d’Estudis Catalans i compta amb la col·laboració d’Acció Cultural del País Valencià\, la Unitat de Cultura Científica i Innovació / Càtedra de Divulgació de la Ciència de la UV\, la Fundació Espanyola per a la Ciència i la Tecnologia\, el Centre Superior d’Investigacions Científiques\, la llibreria Fan Set i la revista Mètode.
URL:https://octubre.cat/activitat/premis-nobel-2022-quimica/
LOCATION:Aula 1
CATEGORIES:Espai Ciència
ATTACH;FMTTYPE=image/jpeg:https://octubre.cat/www/wp-content/uploads/2022/11/nobel_quimica_2022.jpg
END:VEVENT
END:VCALENDAR