BEGIN:VCALENDAR
VERSION:2.0
PRODID:-//Octubre Centre de Cultura Contemporània - ECPv5.1.6//NONSGML v1.0//EN
CALSCALE:GREGORIAN
METHOD:PUBLISH
X-WR-CALNAME:Octubre Centre de Cultura Contemporània
X-ORIGINAL-URL:https://octubre.cat
X-WR-CALDESC:Events for Octubre Centre de Cultura Contemporània
BEGIN:VTIMEZONE
TZID:Europe/Andorra
BEGIN:DAYLIGHT
TZOFFSETFROM:+0100
TZOFFSETTO:+0200
TZNAME:CEST
DTSTART:20220327T010000
END:DAYLIGHT
BEGIN:STANDARD
TZOFFSETFROM:+0200
TZOFFSETTO:+0100
TZNAME:CET
DTSTART:20221030T010000
END:STANDARD
END:VTIMEZONE
BEGIN:VEVENT
DTSTART;TZID=Europe/Andorra:20220124T190000
DTEND;TZID=Europe/Andorra:20220124T190000
DTSTAMP:20260421T134538
CREATED:20211130T154638Z
LAST-MODIFIED:20250629T101453Z
UID:17451-1643050800-1643050800@octubre.cat
SUMMARY:Premis Nobel 2021: Fisiologia o Medicina
DESCRIPTION:Premi atorgat a David Julius i Ardem Patapoutian “pels seus descobriments dels receptors de temperatura i tacte”. \nConferència “Del plaer al dolor: quan els receptors sensorials s’enutgen”\, a càrrec d’Antonio Ferrer Montiel (Departament de Bioquímica i Biologia Molecular i Institut d’Investigació\, Desenvolupament i Innovació en Biotecnologia Sanitària d’Elx IDIBE\, Universitat Miguel Hernández). \nMés informació
URL:https://octubre.cat/activitat/premis-nobel-2021-fisiologia-o-medicina/
LOCATION:Aula 1
CATEGORIES:Espai Ciència
ATTACH;FMTTYPE=image/jpeg:https://octubre.cat/www/wp-content/uploads/2021/11/nobel-medicina-2021.jpg
END:VEVENT
END:VCALENDAR