BEGIN:VCALENDAR
VERSION:2.0
PRODID:-//Octubre Centre de Cultura Contemporània - ECPv5.1.6//NONSGML v1.0//EN
CALSCALE:GREGORIAN
METHOD:PUBLISH
X-WR-CALNAME:Octubre Centre de Cultura Contemporània
X-ORIGINAL-URL:https://octubre.cat
X-WR-CALDESC:Events for Octubre Centre de Cultura Contemporània
BEGIN:VTIMEZONE
TZID:Europe/Andorra
BEGIN:DAYLIGHT
TZOFFSETFROM:+0100
TZOFFSETTO:+0200
TZNAME:CEST
DTSTART:20220327T010000
END:DAYLIGHT
BEGIN:STANDARD
TZOFFSETFROM:+0200
TZOFFSETTO:+0100
TZNAME:CET
DTSTART:20221030T010000
END:STANDARD
END:VTIMEZONE
BEGIN:VEVENT
DTSTART;TZID=Europe/Andorra:20220125T190000
DTEND;TZID=Europe/Andorra:20220125T190000
DTSTAMP:20260420T125008
CREATED:20211130T161205Z
LAST-MODIFIED:20250629T101435Z
UID:17453-1643137200-1643137200@octubre.cat
SUMMARY:Premis Nobel 2021: Física
DESCRIPTION:Premi atorgat a Syukuro Manabe\, Klaus Hasselmann i Giorgio Parisi “per les sues innovadores contribucions a la nostra comprensió dels sistemes complexos”. \nConferència “Tres ingredients de les lleis naturals: desordre\, atzar i interaccions: De l’aleteig de la papallona al Nobel 2021”\, a càrrec de Susanna Manrubia (Departamento de Biología de Sistemas\, Centro Nacional de Biotecnología CNB – CSIC). \nMés informació
URL:https://octubre.cat/activitat/premis-nobel-2021-fisica/
LOCATION:Aula 1
CATEGORIES:Espai Ciència
ATTACH;FMTTYPE=image/jpeg:https://octubre.cat/www/wp-content/uploads/2021/11/nobel-fisica-2021.jpg
END:VEVENT
END:VCALENDAR