BEGIN:VCALENDAR
VERSION:2.0
PRODID:-//Octubre Centre de Cultura Contemporània - ECPv5.1.6//NONSGML v1.0//EN
CALSCALE:GREGORIAN
METHOD:PUBLISH
X-WR-CALNAME:Octubre Centre de Cultura Contemporània
X-ORIGINAL-URL:https://octubre.cat
X-WR-CALDESC:Events for Octubre Centre de Cultura Contemporània
BEGIN:VTIMEZONE
TZID:Europe/Andorra
BEGIN:DAYLIGHT
TZOFFSETFROM:+0100
TZOFFSETTO:+0200
TZNAME:CEST
DTSTART:20210328T010000
END:DAYLIGHT
BEGIN:STANDARD
TZOFFSETFROM:+0200
TZOFFSETTO:+0100
TZNAME:CET
DTSTART:20211031T010000
END:STANDARD
END:VTIMEZONE
BEGIN:VEVENT
DTSTART;TZID=Europe/Andorra:20210127T190000
DTEND;TZID=Europe/Andorra:20210127T190000
DTSTAMP:20260425T143149
CREATED:20201215T171559Z
LAST-MODIFIED:20210108T114037Z
UID:15766-1611774000-1611774000@octubre.cat
SUMMARY:Premis Nobel 2020: Química
DESCRIPTION:Premi atorgat a Emmanuelle Charpentier i Jennifer A. Doudna “pel desenvolupament d’un mètode d’edició dels genomes”. \nConferència “CRISPR que et vull verd: biotecnologia de Nobel per a un futur sostenible” a càrrec de Diego Orzáez (Institut de Biologia Molecular i Cel·lular de Plantes IBMCP (Universitat Politècnica de València-CSIC). \nMés informació
URL:https://octubre.cat/activitat/premis-nobel-2020-quimica/
LOCATION:En línia
CATEGORIES:Espai Ciència
ATTACH;FMTTYPE=image/jpeg:https://octubre.cat/www/wp-content/uploads/2020/12/quimica.jpg
END:VEVENT
END:VCALENDAR