BEGIN:VCALENDAR
VERSION:2.0
PRODID:-//Octubre Centre de Cultura Contemporània - ECPv5.1.6//NONSGML v1.0//EN
CALSCALE:GREGORIAN
METHOD:PUBLISH
X-WR-CALNAME:Octubre Centre de Cultura Contemporània
X-ORIGINAL-URL:https://octubre.cat
X-WR-CALDESC:Events for Octubre Centre de Cultura Contemporània
BEGIN:VTIMEZONE
TZID:Europe/Andorra
BEGIN:DAYLIGHT
TZOFFSETFROM:+0100
TZOFFSETTO:+0200
TZNAME:CEST
DTSTART:20210328T010000
END:DAYLIGHT
BEGIN:STANDARD
TZOFFSETFROM:+0200
TZOFFSETTO:+0100
TZNAME:CET
DTSTART:20211031T010000
END:STANDARD
END:VTIMEZONE
BEGIN:VEVENT
DTSTART;TZID=Europe/Andorra:20210125T190000
DTEND;TZID=Europe/Andorra:20210125T190000
DTSTAMP:20260425T173953
CREATED:20201215T165955Z
LAST-MODIFIED:20210108T114006Z
UID:15762-1611601200-1611601200@octubre.cat
SUMMARY:Premis Nobel 2020: Economia
DESCRIPTION:Premi atorgat a Paul R. Milgrom i Robert B. Wilson “per les millores en la teoria de les subhastes i la invenció de nous formats de subhasta”. \nConferència “Milgrom i Wilson o com resoldre un bloc de Lego en l’Economia Matemàtica”\, a càrrec d’Amparo Urbano (Departament d’Anàlisi Econòmica i ERI-CES\, Universitat de València) \nMés informació
URL:https://octubre.cat/activitat/premis-nobel-2020-economia/
LOCATION:En línia
CATEGORIES:Espai Ciència
ATTACH;FMTTYPE=image/jpeg:https://octubre.cat/www/wp-content/uploads/2020/12/economia.jpg
END:VEVENT
END:VCALENDAR