BEGIN:VCALENDAR
VERSION:2.0
PRODID:-//Octubre Centre de Cultura Contemporània - ECPv5.1.6//NONSGML v1.0//EN
CALSCALE:GREGORIAN
METHOD:PUBLISH
X-WR-CALNAME:Octubre Centre de Cultura Contemporània
X-ORIGINAL-URL:https://octubre.cat
X-WR-CALDESC:Events for Octubre Centre de Cultura Contemporània
BEGIN:VTIMEZONE
TZID:Europe/Andorra
BEGIN:DAYLIGHT
TZOFFSETFROM:+0100
TZOFFSETTO:+0200
TZNAME:CEST
DTSTART:20200329T010000
END:DAYLIGHT
BEGIN:STANDARD
TZOFFSETFROM:+0200
TZOFFSETTO:+0100
TZNAME:CET
DTSTART:20201025T010000
END:STANDARD
END:VTIMEZONE
BEGIN:VEVENT
DTSTART;TZID=Europe/Andorra:20200129T190000
DTEND;TZID=Europe/Andorra:20200129T190000
DTSTAMP:20260421T132409
CREATED:20200729T191317Z
LAST-MODIFIED:20200729T191317Z
UID:13664-1580324400-1580324400@octubre.cat
SUMMARY:Premis Nobel 2019: Física
DESCRIPTION:Dimecres 29 de gener a les 19.00h. Conferècia d’Amèlia Ortiz\, de l’Observatori Astronòmic de la Universitat de València.	 \n  \n  \n\n 	 Premi atorgat a James Peebles “pels descobriments teòrics sobre cosmologia física” i a Michel Mayor i Didier Queloz “pel descobriment d’un exoplaneta orbitant una estrella de tipus solar”.  Conferència “De l’univers\, els exoplanetes… i que si naps que si cols”\, a càrrec d’Amelia Ortiz\, de l’Observatori Astronòmic\, Universitat de València.
URL:https://octubre.cat/activitat/premis-nobel-2019-fisica/
CATEGORIES:Espai Ciència
ATTACH;FMTTYPE=image/jpeg:https://octubre.cat/www/wp-content/uploads/2020/07/activitat3405.jpg
END:VEVENT
END:VCALENDAR