BEGIN:VCALENDAR
VERSION:2.0
PRODID:-//Octubre Centre de Cultura Contemporània - ECPv5.1.6//NONSGML v1.0//EN
CALSCALE:GREGORIAN
METHOD:PUBLISH
X-WR-CALNAME:Octubre Centre de Cultura Contemporània
X-ORIGINAL-URL:https://octubre.cat
X-WR-CALDESC:Events for Octubre Centre de Cultura Contemporània
BEGIN:VTIMEZONE
TZID:Europe/Andorra
BEGIN:DAYLIGHT
TZOFFSETFROM:+0100
TZOFFSETTO:+0200
TZNAME:CEST
DTSTART:20190331T010000
END:DAYLIGHT
BEGIN:STANDARD
TZOFFSETFROM:+0200
TZOFFSETTO:+0100
TZNAME:CET
DTSTART:20191027T010000
END:STANDARD
END:VTIMEZONE
BEGIN:VEVENT
DTSTART;TZID=Europe/Andorra:20190114T190000
DTEND;TZID=Europe/Andorra:20190114T190000
DTSTAMP:20260421T152007
CREATED:20200729T173229Z
LAST-MODIFIED:20200729T191017Z
UID:11334-1547492400-1547492400@octubre.cat
SUMMARY:Premis Nobel 2018: Fisiologia o Medicina
DESCRIPTION:Dilluns 14 de gener a les 19.00h. Conferència a càrrec d’Adela Cañete\, de la Unitat d’Oncohematologia Pediàtrica i Institut d’Investigació Sanitària\, Hospital Universitari i Politècnic La Fe\, València.	 \n  \n  \n\n 	 Premi atorgat a James P. Allison i Tasuku Honjo “pel descobriment de la teràpia del càncer basada en la inhibició de la regulació immunitària negativa”.  Conferència “Immunoteràpia i càncer: principi o final?”\, a càrrec d’Adela Cañete\, de la Unitat d’Oncohematologia Pediàtrica i Institut d’Investigació Sanitària\, Hospital Universitari i Politècnic La Fe\, València.
URL:https://octubre.cat/activitat/premis-nobel-2018-fisiologia-o-medicina/
CATEGORIES:Espai Ciència
ATTACH;FMTTYPE=image/jpeg:https://octubre.cat/www/wp-content/uploads/2020/07/activitat3179.jpg
END:VEVENT
END:VCALENDAR