BEGIN:VCALENDAR
VERSION:2.0
PRODID:-//Octubre Centre de Cultura Contemporània - ECPv5.1.6//NONSGML v1.0//EN
CALSCALE:GREGORIAN
METHOD:PUBLISH
X-WR-CALNAME:Octubre Centre de Cultura Contemporània
X-ORIGINAL-URL:https://octubre.cat
X-WR-CALDESC:Events for Octubre Centre de Cultura Contemporània
BEGIN:VTIMEZONE
TZID:Europe/Andorra
BEGIN:DAYLIGHT
TZOFFSETFROM:+0100
TZOFFSETTO:+0200
TZNAME:CEST
DTSTART:20190331T010000
END:DAYLIGHT
BEGIN:STANDARD
TZOFFSETFROM:+0200
TZOFFSETTO:+0100
TZNAME:CET
DTSTART:20191027T010000
END:STANDARD
END:VTIMEZONE
BEGIN:VEVENT
DTSTART;TZID=Europe/Andorra:20190130T190000
DTEND;TZID=Europe/Andorra:20190130T190000
DTSTAMP:20260421T111056
CREATED:20200729T173232Z
LAST-MODIFIED:20200729T191019Z
UID:11337-1548874800-1548874800@octubre.cat
SUMMARY:Premis Nobel 2018: Física
DESCRIPTION:Dimecres 30 de gener a les 19.00h. Conferència a càrrec d’Eugenio Roldán\, del Departament d’Òptica\, Optometria i Ciències de la Visió\, Universitat de València.	 \n  \n  \n\n 	 Per invencions innovadores en el camp de la física de làsers\, premi atorgat a Arthur Ashking\, “per les pinces òptiques i les seues aplicacions a sistemes biològics” i a Gérard Mourou i Donna Strickland “pel seu mètode de generar polsos òptics d’alta intensitat i ultracurts”.  Conferència “Ferramentes òptiques” a càrrec d’Eugenio Roldán\, del Departament d’Òptica\, Optometria i Ciències de la Visió\, Universitat de València.
URL:https://octubre.cat/activitat/premis-nobel-2018-fisica/
CATEGORIES:Espai Ciència
ATTACH;FMTTYPE=image/jpeg:https://octubre.cat/www/wp-content/uploads/2020/07/activitat3182.jpg
END:VEVENT
END:VCALENDAR