BEGIN:VCALENDAR
VERSION:2.0
PRODID:-//Octubre Centre de Cultura Contemporània - ECPv5.1.6//NONSGML v1.0//EN
CALSCALE:GREGORIAN
METHOD:PUBLISH
X-WR-CALNAME:Octubre Centre de Cultura Contemporània
X-ORIGINAL-URL:https://octubre.cat
X-WR-CALDESC:Events for Octubre Centre de Cultura Contemporània
BEGIN:VTIMEZONE
TZID:Europe/Andorra
BEGIN:DAYLIGHT
TZOFFSETFROM:+0100
TZOFFSETTO:+0200
TZNAME:CEST
DTSTART:20180325T010000
END:DAYLIGHT
BEGIN:STANDARD
TZOFFSETFROM:+0200
TZOFFSETTO:+0100
TZNAME:CET
DTSTART:20181028T010000
END:STANDARD
END:VTIMEZONE
BEGIN:VEVENT
DTSTART;TZID=Europe/Andorra:20180124T190000
DTEND;TZID=Europe/Andorra:20180124T190000
DTSTAMP:20260421T144253
CREATED:20200729T190235Z
LAST-MODIFIED:20200729T190235Z
UID:13302-1516820400-1516820400@octubre.cat
SUMMARY:Premis Nobel 2017: Física
DESCRIPTION:Dimecres 24 de gener a les 19.00h. Conferència sobre el treball dels guanyadors (Weiss\, Barry C. Barish i Kip S. Thorne) a càrrec de José Antonio Font (Universitat de València).  \n  \n  \n\n Premi atorgat a Rainer Weiss\, Barry C. Barish i Kip S. Thorne  “per les seues contribucions decisives al detector LIGO i l’observació d’ones gravitatòries”.  Conferència “Arrugues de l’espai-temps i centelleigs de llum” a càrrec de José Antonio Font\, del Departament d’Astronomia i Astrofísica i de l’Observatori Astronòmic\, Universitat de València.
URL:https://octubre.cat/activitat/premis-nobel-2017-fisica/
CATEGORIES:Espai Ciència
ATTACH;FMTTYPE=image/jpeg:https://octubre.cat/www/wp-content/uploads/2020/07/activitat2941.jpg
END:VEVENT
END:VCALENDAR