BEGIN:VCALENDAR
VERSION:2.0
PRODID:-//Octubre Centre de Cultura Contemporània - ECPv5.1.6//NONSGML v1.0//EN
CALSCALE:GREGORIAN
METHOD:PUBLISH
X-WR-CALNAME:Octubre Centre de Cultura Contemporània
X-ORIGINAL-URL:https://octubre.cat
X-WR-CALDESC:Events for Octubre Centre de Cultura Contemporània
BEGIN:VTIMEZONE
TZID:Europe/Andorra
BEGIN:DAYLIGHT
TZOFFSETFROM:+0100
TZOFFSETTO:+0200
TZNAME:CEST
DTSTART:20170326T010000
END:DAYLIGHT
BEGIN:STANDARD
TZOFFSETFROM:+0200
TZOFFSETTO:+0100
TZNAME:CET
DTSTART:20171029T010000
END:STANDARD
END:VTIMEZONE
BEGIN:VEVENT
DTSTART;TZID=Europe/Andorra:20170131T190000
DTEND;TZID=Europe/Andorra:20170131T190000
DTSTAMP:20260420T130504
CREATED:20200729T172305Z
LAST-MODIFIED:20200729T185709Z
UID:10947-1485889200-1485889200@octubre.cat
SUMMARY:Premis Nobel 2016: Literatura
DESCRIPTION:Dimarts 31 de gener a les 19.00h. Homenatge a Bob Dylan amb Vicent Partal i Borja Penalba.  \n  \n  \n\n “Homenatge a Bob Dylan” Vicent Partal (periodista) i Borja Penalba (músic)  Vicent Partal (Bétera\, 1960). Periodista. Director de VilaWeb i president de l’European Journalism Centre. Ha publicat diversos llibres\, especialment d’informació política o sobre internet. Ha estat guardonat amb el Premi Nacional de Periodisme.  Borja Penalba (València\, 1975). Compositor\, productor\, arranjador i músic\, ha treballat amb nombrosos artistes i grups musicals\, amb més de vint obres discogràfiques i nombrosos reconeixements\, com el premi a la millor banda sonora per “Salvador” i diverses distincions dins els Premis Ovidi Montllor i els Enderrock. Des de fa vint-i-cinc anys prova el so amb la cançó de Bob Dylan “I shall be released”.
URL:https://octubre.cat/activitat/premis-nobel-2016-literatura/
LOCATION:Llibreria Fan Set
CATEGORIES:Espai Ciència
ATTACH;FMTTYPE=image/jpeg:https://octubre.cat/www/wp-content/uploads/2020/07/activitat2733.jpg
END:VEVENT
END:VCALENDAR