BEGIN:VCALENDAR
VERSION:2.0
PRODID:-//Octubre Centre de Cultura Contemporània - ECPv5.1.6//NONSGML v1.0//EN
CALSCALE:GREGORIAN
METHOD:PUBLISH
X-WR-CALNAME:Octubre Centre de Cultura Contemporània
X-ORIGINAL-URL:https://octubre.cat
X-WR-CALDESC:Events for Octubre Centre de Cultura Contemporània
BEGIN:VTIMEZONE
TZID:Europe/Andorra
BEGIN:DAYLIGHT
TZOFFSETFROM:+0100
TZOFFSETTO:+0200
TZNAME:CEST
DTSTART:20170326T010000
END:DAYLIGHT
BEGIN:STANDARD
TZOFFSETFROM:+0200
TZOFFSETTO:+0100
TZNAME:CET
DTSTART:20171029T010000
END:STANDARD
END:VTIMEZONE
BEGIN:VEVENT
DTSTART;TZID=Europe/Andorra:20170201T190000
DTEND;TZID=Europe/Andorra:20170201T190000
DTSTAMP:20260420T184518
CREATED:20200729T172259Z
LAST-MODIFIED:20200729T185708Z
UID:10941-1485975600-1485975600@octubre.cat
SUMMARY:Premis Nobel 2016: Fisiologia o Medicina
DESCRIPTION:Dimecres 25 de gener a les 19.00h. Conferència sobre el treball del guanyador (Yoshinori Ohsumi) a càrrec de Carme Aguado (CIPF).  \n  \n  \n\n “Autofàgia\, una vida de degradació intracel·lular” Carmen Aguado CIPF\, València  L’autofàgia és un procés de degradació de diferents tipus de materials en les cèl·lules eucariotes. Alguns factors ambientals\, com els nutrients\, les hormones i els factors de creixement\, poden induir o inhibir l’autofàgia. El funcionament correcte d’aquest sistema és vital atès el seu paper clau en el manteniment cel·lular. Per això les seues alteracions estan associades amb patologies com la neurodegeneració\, malalties musculars i cardiovasculars\, així com el càncer. El Premi Nobel 2016 en Medicina o Fisiologia ha estat per a Yoshinori Ohsumi.  Carmen Aguado Muñoz és doctora en Farmàcia per la Universitat de València. En 1999 es va incorporar al grup liderat per Erwin Knecht en el Centre d’Investigacions Citològiques en València. Des de 2007 és membre del CIBERER\, un consorci nacional d´investigació biomèdica en xarxa. Especialista en el camp de la degradació intracel·lular i les malalties minoritàries\, actualment és investigadora del Centre d’Investigació Príncep Felip (CIPF) de València.
URL:https://octubre.cat/activitat/premis-nobel-2016-fisiologia-o-medicina/
CATEGORIES:Espai Ciència
ATTACH;FMTTYPE=image/jpeg:https://octubre.cat/www/wp-content/uploads/2020/07/activitat2732.jpg
END:VEVENT
END:VCALENDAR