BEGIN:VCALENDAR
VERSION:2.0
PRODID:-//Octubre Centre de Cultura Contemporània - ECPv5.1.6//NONSGML v1.0//EN
CALSCALE:GREGORIAN
METHOD:PUBLISH
X-WR-CALNAME:Octubre Centre de Cultura Contemporània
X-ORIGINAL-URL:https://octubre.cat
X-WR-CALDESC:Events for Octubre Centre de Cultura Contemporània
BEGIN:VTIMEZONE
TZID:Europe/Andorra
BEGIN:DAYLIGHT
TZOFFSETFROM:+0100
TZOFFSETTO:+0200
TZNAME:CEST
DTSTART:20160327T010000
END:DAYLIGHT
BEGIN:STANDARD
TZOFFSETFROM:+0200
TZOFFSETTO:+0100
TZNAME:CET
DTSTART:20161030T010000
END:STANDARD
END:VTIMEZONE
BEGIN:VEVENT
DTSTART;TZID=Europe/Andorra:20160127T190000
DTEND;TZID=Europe/Andorra:20160127T190000
DTSTAMP:20260421T165734
CREATED:20200729T171540Z
LAST-MODIFIED:20200729T185355Z
UID:10475-1453921200-1453921200@octubre.cat
SUMMARY:Premis Nobel 2015: Química
DESCRIPTION:Dimecres 27 de gener a les 19.00h. Conferència sobre els guanyadors\, Tomas Lindahl\, Paul Modrich i Aziz Sancar\, a càrrec de Ramon Eritja.  \n  \n  \n\n Premi Nobel 2015 de Química atorgat a Tomas Lindahl\, Paul Modrich i Aziz Sancar “pels estudis dels mecanismes de la reparació del DNA”.  Les eines de reparació del DNA El DNA es la molècula responsable de la transmissió de la informació de com s’han de fer totes les molècules de les cèl·lules. Tot i que el DNA és una molècula molt estable\, es poden produir modificacions i errors en la seua estructura que podrien afectar greument la seua funció. Per tal de mantenir la seua integritat hi ha mecanismes que permeten la reparació dels errors.  Conferència a càrrec de Ramon Eritja Institut de Química Avançada de Catalunya (IQAC)\, CSIC Ramon Eritja és doctor en Química Orgànica per la Universitat de Barcelona. Durant l’estada al Beckmann Research Institute (Los Angeles) preparà el primers gens sintètics\, origen de l’empresa Genentech. Desprès va fer una segona estada a la Universitat de Colorado a Boulder. El 1989 va iniciar un grup de recerca en el camp de la Química dels Àcids Nucleics al Centre d’Investigació i Desenvolupament (CID) de Barcelona. El 1994 va ser escollit per dirigir un grup de recerca en el Laboratori Europeu de Biologia Molecular (EMBL\, Heidelberg). Va tornar al CSIC el 1999 i entre 2007 i 2011 va formar part de l’Institut de Recerca Biomèdica de Barcelona. Actualment és director de l’Institut de Química Avançada de Catalunya (IQAC-CSIC). És coautor de més de 300 comunicacions científiques entre articles\, capítols de llibre\, treballs de revisió i patents.
URL:https://octubre.cat/activitat/premis-nobel-2015-quimica/
CATEGORIES:Espai Ciència
ATTACH;FMTTYPE=image/jpeg:https://octubre.cat/www/wp-content/uploads/2020/07/activitat2485.jpg
END:VEVENT
END:VCALENDAR