BEGIN:VCALENDAR
VERSION:2.0
PRODID:-//Octubre Centre de Cultura Contemporània - ECPv5.1.6//NONSGML v1.0//EN
CALSCALE:GREGORIAN
METHOD:PUBLISH
X-WR-CALNAME:Octubre Centre de Cultura Contemporània
X-ORIGINAL-URL:https://octubre.cat
X-WR-CALDESC:Events for Octubre Centre de Cultura Contemporània
BEGIN:VTIMEZONE
TZID:Europe/Andorra
BEGIN:DAYLIGHT
TZOFFSETFROM:+0100
TZOFFSETTO:+0200
TZNAME:CEST
DTSTART:20160327T010000
END:DAYLIGHT
BEGIN:STANDARD
TZOFFSETFROM:+0200
TZOFFSETTO:+0100
TZNAME:CET
DTSTART:20161030T010000
END:STANDARD
END:VTIMEZONE
BEGIN:VEVENT
DTSTART;TZID=Europe/Andorra:20160120T190000
DTEND;TZID=Europe/Andorra:20160120T190000
DTSTAMP:20260421T182220
CREATED:20200729T171538Z
LAST-MODIFIED:20200729T185353Z
UID:10473-1453316400-1453316400@octubre.cat
SUMMARY:Premis Nobel 2015: Física
DESCRIPTION:Dimecres 20 de gener a les 19.00h. Conferència sobre els guanyadors Takaaki Kajita i Arthur B. McDonald a càrrec d’Arcadi Santamaria.  \n  \n  \n\n Premi Nobel de Física 2015 atorgat a Takaaki Kajita i Arthur B. McDonald “pel descobriment de les oscil·lacions neutrí\, que mostren que els neutrins tenen massa”.  Les partícules “fantasma” també tremolen: oscil·lacions de neutrins. Farem un repàs a la història i les propietats dels neutrins (la partícula “fantasma”). En particular\, discutirem què són les oscil·lacions de neutrins i la importància del seu descobriment pels Premis Nobel de 2015\, Takaaki Kajita (SuperKamiokande) del Japó i Arthur B. McDonald (SNO) de Canada\, per entendre el món en què vivim i l’evolució de l’Univers  Conferència a càrrec d’Arcadi Santamaria Institut de Física Corpuscular\, Universitat de València-CSIC  Arcadi Santamaria\, nascut a Borriol (Plana Alta) en 1959. Va estudiar al CP l’Hereu de Borriol\, a l’Institut Francesc Ribalta de Castelló i a la Universitat de València (UV) on acabà el doctorat en 1986. Ha treballat com a investigador a la “Carnegie Mellon University\, Pittsburgh\, U.S.A” (1987-89)\, al “Max-Planck-Institut\, München\, Alemanya” (1989-90) i al “CERN\, Genève\, Suissa” (1992-94). Des de 1990 és professor de la UV i membre de l’IFIC (UV-CSIC). Des de 2008 és també Catedràtic de Física Teòrica de la UV. La seua recerca s’ha desenvolupat en el camp de la Física de les Partícules Elementals en temes que van des de l’anàlisi dels efectes quàntics de quarks pesats en l’experiment LEP del CERN\, fins al disseny de models per a explicar la petita massa dels neutrins\, passant per la formulació i estudi de teories amb més de quatre dimensions.
URL:https://octubre.cat/activitat/premis-nobel-2015-fisica/
CATEGORIES:Espai Ciència
ATTACH;FMTTYPE=image/jpeg:https://octubre.cat/www/wp-content/uploads/2020/07/activitat2483.jpg
END:VEVENT
END:VCALENDAR