BEGIN:VCALENDAR
VERSION:2.0
PRODID:-//Octubre Centre de Cultura Contemporània - ECPv5.1.6//NONSGML v1.0//EN
CALSCALE:GREGORIAN
METHOD:PUBLISH
X-WR-CALNAME:Octubre Centre de Cultura Contemporània
X-ORIGINAL-URL:https://octubre.cat
X-WR-CALDESC:Events for Octubre Centre de Cultura Contemporània
BEGIN:VTIMEZONE
TZID:Europe/Andorra
BEGIN:DAYLIGHT
TZOFFSETFROM:+0100
TZOFFSETTO:+0200
TZNAME:CEST
DTSTART:20160327T010000
END:DAYLIGHT
BEGIN:STANDARD
TZOFFSETFROM:+0200
TZOFFSETTO:+0100
TZNAME:CET
DTSTART:20161030T010000
END:STANDARD
END:VTIMEZONE
BEGIN:VEVENT
DTSTART;TZID=Europe/Andorra:20160113T190000
DTEND;TZID=Europe/Andorra:20160113T190000
DTSTAMP:20260421T111058
CREATED:20200729T171537Z
LAST-MODIFIED:20200729T185353Z
UID:10472-1452711600-1452711600@octubre.cat
SUMMARY:Premis Nobel 2015: Economia
DESCRIPTION:Dimecres 13 de gener a les 19.00h. Conferència sobre el guanyador\, Angus Deaton\, a càrrec de Dulce Contreras.  \n  \n  \n\n Premi Nobel d’Economia 2015 atorgat a Angus Deaton “per la seua anàlisi del consum\, la pobresa i el benestar”.  Demanda\, pobresa i desigualtat Angus Deaton\, nascut a Escòcia i educat a Cambridge\, és actualment professor a la Universitat de Princenton (Estats Units). Els seus primers treballs es van centrar en l’anàlisi de les pautes de consum dels individus. A la fi dels vuitanta publica tres treballs sobre el que podríem anomenar un “sistema gairebé ideal de demanda”\, que va suposar una fita dins el camp econòmic. En els anys noranta la seua investigació es va centrar en demostrar com l’anàlisi de dades individuals és cabdal per estudiar les conductes macroeconòmiques. En les seues investigacions més recents\, Deaton es planteja com mesurar i analitzar el benestar i la pobresa i com aquesta anàlisi pot aportar punts de vista i explicar situacions que abans ni tan sols es podien considerar.  Conferència a càrrec de Dulce Contreras Departament d’Anàlisi Econòmica\, Universitat de València Dulce Contreras és Catedrática de del Departament d’Anàlisi Econòmica de la Universitat de València des de 1992\, Departament del qual ha estat directora en diverses ocasions. També ha estat membre de l’Equip Rectoral\, la Fundació General\, el Consell de Govern i la Junta Consultiva de la UV\, així com de diverses agències d’avaluació universitària i de la recerca. Ha organitzat diversos cursos sobre economia en la Universitat d’Estiu de Gandia.
URL:https://octubre.cat/activitat/premis-nobel-2015-economia/
CATEGORIES:Espai Ciència
ATTACH;FMTTYPE=image/jpeg:https://octubre.cat/www/wp-content/uploads/2020/07/activitat2482.jpg
END:VEVENT
END:VCALENDAR