BEGIN:VCALENDAR
VERSION:2.0
PRODID:-//Octubre Centre de Cultura Contemporània - ECPv5.1.6//NONSGML v1.0//EN
CALSCALE:GREGORIAN
METHOD:PUBLISH
X-WR-CALNAME:Octubre Centre de Cultura Contemporània
X-ORIGINAL-URL:https://octubre.cat
X-WR-CALDESC:Events for Octubre Centre de Cultura Contemporània
BEGIN:VTIMEZONE
TZID:Europe/Andorra
BEGIN:DAYLIGHT
TZOFFSETFROM:+0100
TZOFFSETTO:+0200
TZNAME:CEST
DTSTART:20150329T010000
END:DAYLIGHT
BEGIN:STANDARD
TZOFFSETFROM:+0200
TZOFFSETTO:+0100
TZNAME:CET
DTSTART:20151025T010000
END:STANDARD
END:VTIMEZONE
BEGIN:VEVENT
DTSTART;TZID=Europe/Andorra:20150119T190000
DTEND;TZID=Europe/Andorra:20150119T190000
DTSTAMP:20260422T072708
CREATED:20200729T170845Z
LAST-MODIFIED:20200730T041332Z
UID:10034-1421694000-1421694000@octubre.cat
SUMMARY:Premis Nobel 2014: Fisiologia o Medicina
DESCRIPTION:Dilluns 19 de gener a les 19.00h. Inauguració del cicle divulgatiu sobre els Premis Nobel concedits el 2014. Conferència “El nostre GPS intern: com aconseguim trobar el cotxe en un pàrquing?”\, a càrrec de Núria Flames\, de l’Institut de Biomedicina de València (CSIC)  \n  \n  \n\n Premi atorgat a John O’Keefe\, May-Britt Moser i Edvard I. Moser “pels seus descobriments de les cèl·lules que formen un sistema cerebral de posicionament”.  Conferència “El nostre GPS intern: com aconseguim trobar el cotxe en un pàrquing?”\, a càrrec de Núria Flames\, de l’Institut de Biomedicina de València (CSIC)
URL:https://octubre.cat/activitat/premis-nobel-2014-fisiologia-o-medicina/
CATEGORIES:Espai Ciència
ATTACH;FMTTYPE=image/jpeg:https://octubre.cat/www/wp-content/uploads/2020/07/activitat2233.jpg
END:VEVENT
END:VCALENDAR