BEGIN:VCALENDAR
VERSION:2.0
PRODID:-//Octubre Centre de Cultura Contemporània - ECPv5.1.6//NONSGML v1.0//EN
CALSCALE:GREGORIAN
METHOD:PUBLISH
X-WR-CALNAME:Octubre Centre de Cultura Contemporània
X-ORIGINAL-URL:https://octubre.cat
X-WR-CALDESC:Events for Octubre Centre de Cultura Contemporània
BEGIN:VTIMEZONE
TZID:Europe/Andorra
BEGIN:DAYLIGHT
TZOFFSETFROM:+0100
TZOFFSETTO:+0200
TZNAME:CEST
DTSTART:20140330T010000
END:DAYLIGHT
BEGIN:STANDARD
TZOFFSETFROM:+0200
TZOFFSETTO:+0100
TZNAME:CET
DTSTART:20141026T010000
END:STANDARD
END:VTIMEZONE
BEGIN:VEVENT
DTSTART;TZID=Europe/Andorra:20140129T190000
DTEND;TZID=Europe/Andorra:20140129T190000
DTSTAMP:20260422T085658
CREATED:20200729T170304Z
LAST-MODIFIED:20200729T184320Z
UID:9674-1391022000-1391022000@octubre.cat
SUMMARY:Premis Nobel 2013: química
DESCRIPTION:Dimecres 29 de gener a les 19.00h. Conferència “Experiments químics en el ciberespai” a càrrec de Maite Roca (UV)\, dins del cicle organitzat per Espai Ciència  \n  \n  \n\n Atorgat a Martin Karplus\, Michael Levitt i Arieh Warshel “pel desenvolupament dels models multiescala per als sistemes químics complexos”.   Conferència “Experiments químics en el ciberespai” a càrrec de Maite Roca (Departament de Química Física\, Universitat de València)
URL:https://octubre.cat/activitat/premis-nobel-2013-quimica/
CATEGORIES:Espai Ciència
ATTACH;FMTTYPE=image/jpeg:https://octubre.cat/www/wp-content/uploads/2020/07/activitat1965.jpg
END:VEVENT
END:VCALENDAR