BEGIN:VCALENDAR
VERSION:2.0
PRODID:-//Octubre Centre de Cultura Contemporània - ECPv5.1.6//NONSGML v1.0//EN
CALSCALE:GREGORIAN
METHOD:PUBLISH
X-WR-CALNAME:Octubre Centre de Cultura Contemporània
X-ORIGINAL-URL:https://octubre.cat
X-WR-CALDESC:Events for Octubre Centre de Cultura Contemporània
BEGIN:VTIMEZONE
TZID:Europe/Andorra
BEGIN:DAYLIGHT
TZOFFSETFROM:+0100
TZOFFSETTO:+0200
TZNAME:CEST
DTSTART:20130331T010000
END:DAYLIGHT
BEGIN:STANDARD
TZOFFSETFROM:+0200
TZOFFSETTO:+0100
TZNAME:CET
DTSTART:20131027T010000
END:STANDARD
END:VTIMEZONE
BEGIN:VEVENT
DTSTART;TZID=Europe/Andorra:20131217T190000
DTEND;TZID=Europe/Andorra:20131217T190000
DTSTAMP:20260423T002935
CREATED:20200729T170245Z
LAST-MODIFIED:20200729T184300Z
UID:9655-1387306800-1387306800@octubre.cat
SUMMARY:Premis Nobel 2013: literatura
DESCRIPTION:Dimarts 17 de desembre a les 19.00h. Conferència sobre Alice Munro\, Premi Nobel de Literatura 2013\, a càrrec de Dolors Udina. Una activitat de l’Espai Ciència a la llibreria 3i4  \n  \n  \n\n Conferència sobre Alice Munro\, mestra del relat curt contemporani i guanyadora del Premi Nobel de Literatura 2013  A càrrec de Dolors Udina\, membre del Grup d’Estudi de la Traducció Catalana Contemporània (Universitat Autònoma de Barcelona) i traductora d’Alice Munro al català  Espai Ciència de l’Octubre CCC
URL:https://octubre.cat/activitat/premis-nobel-2013-literatura/
LOCATION:Llibreria 3i4
CATEGORIES:Espai Ciència
ATTACH;FMTTYPE=image/jpeg:https://octubre.cat/www/wp-content/uploads/2020/07/activitat1945.jpg
END:VEVENT
END:VCALENDAR