BEGIN:VCALENDAR
VERSION:2.0
PRODID:-//Octubre Centre de Cultura Contemporània - ECPv5.1.6//NONSGML v1.0//EN
CALSCALE:GREGORIAN
METHOD:PUBLISH
X-WR-CALNAME:Octubre Centre de Cultura Contemporània
X-ORIGINAL-URL:https://octubre.cat
X-WR-CALDESC:Events for Octubre Centre de Cultura Contemporània
BEGIN:VTIMEZONE
TZID:Europe/Andorra
BEGIN:DAYLIGHT
TZOFFSETFROM:+0100
TZOFFSETTO:+0200
TZNAME:CEST
DTSTART:20140330T010000
END:DAYLIGHT
BEGIN:STANDARD
TZOFFSETFROM:+0200
TZOFFSETTO:+0100
TZNAME:CET
DTSTART:20141026T010000
END:STANDARD
END:VTIMEZONE
BEGIN:VEVENT
DTSTART;TZID=Europe/Andorra:20140120T190000
DTEND;TZID=Europe/Andorra:20140120T190000
DTSTAMP:20260422T052049
CREATED:20200729T170303Z
LAST-MODIFIED:20200729T184319Z
UID:9673-1390244400-1390244400@octubre.cat
SUMMARY:Premis Nobel 2013: fisiologia o medicina
DESCRIPTION:Dilluns 20 de gener a les 19.00h. Conferència “Les claus de l’organització cel·lular: tràfic de vesícules” a càrrec de Fernando Aniento (UV)\, sobre el Premi Nobel concedit a James E. Rothman\, Randy W. Schekman i Thomas C. Südhof  \n  \n  \n\n Atorgat a James E. Rothman\, Randy W. Schekman i Thomas C. Südhof “pels seus descobriments de la maquinària reguladora del tràfic de vesícules\, un sistema principal de transport en les nostres cèl·lules”.  Conferència “Les claus de l’organització cel·lular: tràfic de vesícules” a càrrec de Fernando Aniento (ERI/ISIC de Biotecnologia i Biomedicina\, Universitat de València)
URL:https://octubre.cat/activitat/premis-nobel-2013-fisiologia-o-medicina/
CATEGORIES:Espai Ciència
ATTACH;FMTTYPE=image/jpeg:https://octubre.cat/www/wp-content/uploads/2020/07/activitat1964.jpg
END:VEVENT
END:VCALENDAR