BEGIN:VCALENDAR
VERSION:2.0
PRODID:-//Octubre Centre de Cultura Contemporània - ECPv5.1.6//NONSGML v1.0//EN
CALSCALE:GREGORIAN
METHOD:PUBLISH
X-WR-CALNAME:Octubre Centre de Cultura Contemporània
X-ORIGINAL-URL:https://octubre.cat
X-WR-CALDESC:Events for Octubre Centre de Cultura Contemporània
BEGIN:VTIMEZONE
TZID:Europe/Andorra
BEGIN:DAYLIGHT
TZOFFSETFROM:+0100
TZOFFSETTO:+0200
TZNAME:CEST
DTSTART:20140330T010000
END:DAYLIGHT
BEGIN:STANDARD
TZOFFSETFROM:+0200
TZOFFSETTO:+0100
TZNAME:CET
DTSTART:20141026T010000
END:STANDARD
END:VTIMEZONE
BEGIN:VEVENT
DTSTART;TZID=Europe/Andorra:20140115T190000
DTEND;TZID=Europe/Andorra:20140115T190000
DTSTAMP:20260422T105049
CREATED:20200729T170302Z
LAST-MODIFIED:20200729T184318Z
UID:9672-1389812400-1389812400@octubre.cat
SUMMARY:Premis Nobel 2013: física
DESCRIPTION:Dimecres 15 de gener a les 19.00h. Conferència “El Bosó de Higgs”\, a càrrec d’Antonio Pich (UV) sobre el Premi Nobel concedit a François Englert i Peter W. Higgs  \n  \n  \n\n Atorgat a François Englert i Peter W. Higgs “pel descobriment teòric d’un mecanisme que contribueix a la nostra comprensió de l’origen de la massa de les partícules subatòmiques i que recentment es va confirmar a través del descobriment de la partícula fonamental predita\, pels experiments ATLAS i CMS del Gran Col·lisionador d’Hadrons del CERN”.  Conferència “El Bosó de Higgs”\, a càrrec d’Antonio Pich (Institut de Física Corpuscular\, CSIC-Universitat de València)
URL:https://octubre.cat/activitat/premis-nobel-2013-fisica/
LOCATION:Aula 2
CATEGORIES:Espai Ciència
ATTACH;FMTTYPE=image/jpeg:https://octubre.cat/www/wp-content/uploads/2020/07/activitat1963.jpg
END:VEVENT
END:VCALENDAR